BEGIN:VCALENDAR
VERSION:2.0
PRODID:-//Veterinary.co.za - ECPv6.2.3.2//NONSGML v1.0//EN
CALSCALE:GREGORIAN
METHOD:PUBLISH
X-ORIGINAL-URL:https://veterinary.co.za
X-WR-CALDESC:Events for Veterinary.co.za
REFRESH-INTERVAL;VALUE=DURATION:PT1H
X-Robots-Tag:noindex
X-PUBLISHED-TTL:PT1H
BEGIN:VTIMEZONE
TZID:Europe/Helsinki
BEGIN:DAYLIGHT
TZOFFSETFROM:+0200
TZOFFSETTO:+0300
TZNAME:EEST
DTSTART:20250330T010000
END:DAYLIGHT
BEGIN:STANDARD
TZOFFSETFROM:+0300
TZOFFSETTO:+0200
TZNAME:EET
DTSTART:20251026T010000
END:STANDARD
END:VTIMEZONE
BEGIN:VEVENT
DTSTART;TZID=Europe/Helsinki:20251102T083000
DTEND;TZID=Europe/Helsinki:20251104T170000
DTSTAMP:20260421T075242
CREATED:20251024T004435Z
LAST-MODIFIED:20251024T004546Z
UID:10000294-1762072200-1762275600@veterinary.co.za
SUMMARY:KYRON SCRIPTS | Wildlife Veterinary Workshop 2025: Update on Wildlife Immobilization\, Human Trauma & Drug Exposure
DESCRIPTION:Subject: Wildlife Veterinary Workshop 2025: Update on Wildlife Immobilization\, Human Trauma & Drug Exposure\nSpeaker: Multiple\nOrganizer: Kyron Scripts\nVenue: Phala Phala Wildlife\, Bela Bela\, Limpopo\nEMAIL: li-ann.grobler@kyronscripts.com  \nDear Veterinarian\nKyron Scripts is pleased to invite you to attend the Kyron Wildlife Veterinary Workshop 2025. A hands-on\, practical learning experience for veterinary professionals working in the field of wildlife health and conservation.\nThis intensive three-day workshop aims to empower attending veterinarians with theoretical knowledge and practical demonstrations\, delivered by experienced wildlife clinicians and multidisciplinary medical professionals. \nWorkshop Focus:\nThe workshop will centre around the Low-opioid Darting Protocol\, with a focus on the use of Medetomidine for wildlife immobilization\, providing the latest updates in field immobilization.\nExpert Presenters & Lecturers:\n• Dr Hendrik Hansen – Rhino Repro\, Embryo Plus\, Wildlife Veterinarian & Reproduction Specialist\n• Dr Morné de la Rey – Rhino Repro\, Embryo Plus\, Veterinary Reproduction Specialist\n• Dr Andre Uys – Wildlife veterinarian\, North West Wildlife Veterinary Services & Conservation Solutions\n• Dr JW Eskteen – Wildlife veterinarian\, Kroonstad Animal Hospital\n• Dr Johan Steyl – Pathology Section Head\, Department of Paraclinical Science\, Faculty of Veterinary Science\, Onderstepoort Veterinary Academic Hospital\n• Dr Manie du Plessis – Wildlife veterinarian\, MJ du Plessis Wildlife Veterinary Services\n• Dr Christina Eberhardt – Senior Lecturer in Equine Medicine in the Department of Companion Animal Clinical Studies\, Faculty of Veterinary Science\, Onderstepoort Veterinary Academic Hospital. Equine Internal Medicine Specialist.\n• Dr James Morrow – Emergency Medicine Physician\, Eastern Cape Department of Health\n• Dr Gary Middleton & Dr Gert du Preez – Mediclinic Tzaneen Emergency Centre\n• Dr Nico du Preez – Veterinarian\, National Sales & Marketing Manager\, Kyron Animal Health \nWorkshop Procedures & Topics:\n• Introduction to low-opioid use in chemical immobilization\n• Use of Medetomidine in wildlife immobilization\n• Practical chemical immobilization procedures on:\no White Rhino\no African Buffalo\no Sable & Roan Antelope\no Spiral-horned Antelope: Eland\, Kudu\, Nyala\no Small Antelope: Impala\, Springbok\, Blesbok\n• Bull fertility testing and demonstration of semen collection\n• Ultrasound scanning and oocyte collection in adult White Rhino\n• Anaesthetic monitoring: ECG\, pulse oximetry\, and blood gas analysis\n• Anaesthetic associated mortalities in wildlife: Diagnostic challenges & consequences presented by Dr Johan Steyl\n• Human drug exposure: field emergencies and handling\n• Human trauma management: emergency care protocols in the field \nCPD Accreditation:\nThis workshop will be CPD accredited by the South African Veterinary Council (SAVC). Final CPD point allocation will be confirmed once the process is complete.\nThe workshop is open for Veterinarians\, CCS Veterinarians\, Veterinary nurses\, as well as some limited space for Onderstepoort Veterinary students.\nWorkshop Costs:\n• Shared Accommodation: R3\,950.00 (excl. VAT) per person sharing.\n• Single Accommodation: R4\,300.00 (excl. VAT) per single room Course fees include accommodation for two nights\, as well as breakfast\, lunch\, and dinner. \nFor booking and more information\, please contact:\nLi-Ann Grobler Cell: +27 (0) 83 630 3360 Email: Li-Ann.Grobler@Kyronscripts.com\nWe are excited to welcome you to this unique opportunity to engage with leaders in wildlife veterinary medicine\, expand your practical skills\, and gain vital insights into both animal and human safety in the field.\nThank you for your continued support!\nKind regards\, The Kyron Scripts Team
URL:https://veterinary.co.za/event-main/kyron-scripts-wildlife-veterinary-workshop-2025-update-on-wildlife-immobilization-human-trauma-drug-exposure/
LOCATION:Phala Phala Wildlife\, Bela Bela\, Limpopo\, Diepdrift D908\, Bela-Bela\, Limpopo\, 0480\, South Africa
CATEGORIES:In-Person Event
ATTACH;FMTTYPE=image/jpeg:https://veterinary.co.za/wp-content/uploads/2025/10/kyron-wildlife-workshop.jpg
END:VEVENT
END:VCALENDAR