BEGIN:VCALENDAR
VERSION:2.0
PRODID:-//Veterinary.co.za - ECPv6.2.3.2//NONSGML v1.0//EN
CALSCALE:GREGORIAN
METHOD:PUBLISH
X-WR-CALNAME:Veterinary.co.za
X-ORIGINAL-URL:https://veterinary.co.za
X-WR-CALDESC:Events for Veterinary.co.za
REFRESH-INTERVAL;VALUE=DURATION:PT1H
X-Robots-Tag:noindex
X-PUBLISHED-TTL:PT1H
BEGIN:VTIMEZONE
TZID:Europe/Helsinki
BEGIN:DAYLIGHT
TZOFFSETFROM:+0200
TZOFFSETTO:+0300
TZNAME:EEST
DTSTART:20250330T010000
END:DAYLIGHT
BEGIN:STANDARD
TZOFFSETFROM:+0300
TZOFFSETTO:+0200
TZNAME:EET
DTSTART:20251026T010000
END:STANDARD
END:VTIMEZONE
BEGIN:VEVENT
DTSTART;TZID=Europe/Helsinki:20250306T193000
DTEND;TZID=Europe/Helsinki:20250306T210000
DTSTAMP:20260422T051102
CREATED:20250223T195239Z
LAST-MODIFIED:20250304T115923Z
UID:10000149-1741289400-1741294800@veterinary.co.za
SUMMARY:Apoquel Chewable Launch
DESCRIPTION:Subject: Apoquel Chewable Launch\nSpeakers: Dr Andrew Hillier\nOrganizer: Zoetis\nLINK: REGISTER HERE \nSpeaker: Prof Andrew Hillier – BVSc\, MANZCVS (Canine Medicine)\nDiplomate American College of Veterinary Dermatology\nDirector of Dermatology Medical Strategy\,\nDirector of Field Specialists \nProf Andrew – Andy – Hillier graduated from Onderstepoort on 1992. He practiced small animal primary care for eight years in Cape Town and Perth. \nAndy completed a residency in veterinary dermatology at the University of Florida in 1994 when he was board-certified by the American College of Veterinary Dermatology. He established his own dermatology referral practice in Australia before returning to the US in 1996. He was on the faculty at The Ohio State University for 17 years\, attained a Full Professor and Head of the Dermatology and Otology Service. He joined Zoetis as a Senior Veterinary Specialist in 2013. \nProf Hillier moved to Zoetis HQ in New Jersey as the Medical Lead for Dermatology. He now serves as the Director of Dermatology Medical Strategy and Field Specialist at Zoetis PETCARE. He has published over 40 peer-reviewed articles\, edited and written books and book chapters\, and lectured extensively both in the US and internationally. His primary areas of interest are atopicand allergic dermatitis\, and staphylococcal pyoderma and antimicrobial therapy.
URL:https://veterinary.co.za/event-main/apoquel-chewable-launch/
LOCATION:Webinar\, *Online\, South Africa
CATEGORIES:*Webinar
ATTACH;FMTTYPE=image/jpeg:https://veterinary.co.za/wp-content/uploads/2025/02/apoquel-chewable2-scaled.jpg
END:VEVENT
BEGIN:VEVENT
DTSTART;TZID=Europe/Helsinki:20250308T140000
DTEND;TZID=Europe/Helsinki:20250308T203000
DTSTAMP:20260422T051102
CREATED:20250302T214856Z
LAST-MODIFIED:20250302T215454Z
UID:10000155-1741442400-1741465800@veterinary.co.za
SUMMARY:Hill's Science & Innovation Roadshow
DESCRIPTION:Subject: Hill’s Science & Innovation Roadshow\nSpeakers: Multiple\nOrganizer: Hill’s\nLINK: REGISTER HERE \nCAPE TOWN\nDoubleTree by Hilton\n31 Brickfield Road\, Woodstock\, Cape Town\nLectures 14:00 – 18:30 | Dinner 18:30 – 20:30 \nCutting-edge science never gets old and neither does our mission to help you transform the lives of pets. We believe that science is the best path to giving pets the best care possible. For over 75 years\, science and innovation remains at the core of the Hill’s nutritional philosophy\, so we invite you to our Science & Innovation Roadshow where we’ll share how science continues to transform the lives of pets today and tomorrow. \nWe’ll have a special focus on critical care and recovery\, its different phases and treatment plans. We’ll also launch our latest\, ground-breaking food and share how it can help pets in recovery\, those living with serious illness or who struggle to gain weight. \nThe talks will be followed by dinner and a chance to connect with fellow veterinary professionals.
URL:https://veterinary.co.za/event-main/hills-science-roadshow/
LOCATION:DoubleTree by Hilton\, Woodstock\, Cape Town\, 31 Brickfield Road\, Woodstock\, Cape Town\, Western Cape\, 7925\, South Africa
CATEGORIES:In-Person Event
ATTACH;FMTTYPE=image/jpeg:https://veterinary.co.za/wp-content/uploads/2025/03/Hills-science-and-innovation-roadshow.jpg
END:VEVENT
BEGIN:VEVENT
DTSTART;TZID=Europe/Helsinki:20250312T140000
DTEND;TZID=Europe/Helsinki:20250312T203000
DTSTAMP:20260422T051102
CREATED:20250302T215414Z
LAST-MODIFIED:20250302T215414Z
UID:10000156-1741788000-1741811400@veterinary.co.za
SUMMARY:Hill's Science & Innovation Roadshow
DESCRIPTION:Subject: Hill’s Science & Innovation Roadshow\nSpeakers: Multiple\nOrganizer: Hill’s\nLINK: REGISTER HERE \nDURBAN\nWillow Way Manor Estate\n1 Willow Way\, Hilcrest\, Outer West Durban\nLectures 14:00 – 18:30 | Dinner 18:30 – 20:30 \nCutting-edge science never gets old and neither does our mission to help you transform the lives of pets. We believe that science is the best path to giving pets the best care possible. For over 75 years\, science and innovation remains at the core of the Hill’s nutritional philosophy\, so we invite you to our Science & Innovation Roadshow where we’ll share how science continues to transform the lives of pets today and tomorrow. \nWe’ll have a special focus on critical care and recovery\, its different phases and treatment plans. We’ll also launch our latest\, ground-breaking food and share how it can help pets in recovery\, those living with serious illness or who struggle to gain weight. \nThe talks will be followed by dinner and a chance to connect with fellow veterinary professionals.
URL:https://veterinary.co.za/event-main/hills-science-innovation-roadshow/
LOCATION:Willow Way Manor Estate\, Durban\, KwaZulu-Natal\, 1 Willow Way\, Hilcrest\, Outer West Durban\, Durban\, KwaZulu-Natal\, 3624\, South Africa
CATEGORIES:In-Person Event
ATTACH;FMTTYPE=image/jpeg:https://veterinary.co.za/wp-content/uploads/2025/03/Hills-science-and-innovation-roadshow.jpg
END:VEVENT
BEGIN:VEVENT
DTSTART;TZID=Europe/Helsinki:20250315T140000
DTEND;TZID=Europe/Helsinki:20250315T203000
DTSTAMP:20260422T051102
CREATED:20250302T215806Z
LAST-MODIFIED:20250302T215806Z
UID:10000157-1742047200-1742070600@veterinary.co.za
SUMMARY:Hill's Science & Innovation Roadshow
DESCRIPTION:Subject: Hill’s Science & Innovation Roadshow\nSpeakers: Multiple\nOrganizer: Hill’s\nLINK: REGISTER HERE \nPRETORIA\nIrene Country Lodge\nNellmapius Drive\, Irene\, Pretoria\nLectures 14:00 – 18:30 | Dinner 18:30 – 20:30 \nCutting-edge science never gets old and neither does our mission to help you transform the lives of pets. We believe that science is the best path to giving pets the best care possible. For over 75 years\, science and innovation remains at the core of the Hill’s nutritional philosophy\, so we invite you to our Science & Innovation Roadshow where we’ll share how science continues to transform the lives of pets today and tomorrow. \nWe’ll have a special focus on critical care and recovery\, its different phases and treatment plans. We’ll also launch our latest\, ground-breaking food and share how it can help pets in recovery\, those living with serious illness or who struggle to gain weight. \nThe talks will be followed by dinner and a chance to connect with fellow veterinary professionals.
URL:https://veterinary.co.za/event-main/hills-science-innovation-roadshow-2/
LOCATION:Irene Country Lodge\, Pretoria\, Gauteng\, Irene Country Lodge\, Nellmapius Drive\, Irene\, Pretoria\, Gauteng\, 0062\, South Africa
CATEGORIES:In-Person Event
ATTACH;FMTTYPE=image/jpeg:https://veterinary.co.za/wp-content/uploads/2025/03/Hills-science-and-innovation-roadshow.jpg
END:VEVENT
END:VCALENDAR