BEGIN:VCALENDAR
VERSION:2.0
PRODID:-//Veterinary.co.za - ECPv6.2.3.2//NONSGML v1.0//EN
CALSCALE:GREGORIAN
METHOD:PUBLISH
X-WR-CALNAME:Veterinary.co.za
X-ORIGINAL-URL:https://veterinary.co.za
X-WR-CALDESC:Events for Veterinary.co.za
REFRESH-INTERVAL;VALUE=DURATION:PT1H
X-Robots-Tag:noindex
X-PUBLISHED-TTL:PT1H
BEGIN:VTIMEZONE
TZID:Europe/Helsinki
BEGIN:DAYLIGHT
TZOFFSETFROM:+0200
TZOFFSETTO:+0300
TZNAME:EEST
DTSTART:20260329T010000
END:DAYLIGHT
BEGIN:STANDARD
TZOFFSETFROM:+0300
TZOFFSETTO:+0200
TZNAME:EET
DTSTART:20261025T010000
END:STANDARD
END:VTIMEZONE
BEGIN:VEVENT
DTSTART;TZID=Europe/Helsinki:20260211T190000
DTEND;TZID=Europe/Helsinki:20260211T200000
DTSTAMP:20260421T005020
CREATED:20260124T181301Z
LAST-MODIFIED:20260124T182656Z
UID:10000317-1770836400-1770840000@veterinary.co.za
SUMMARY:IVPD & BBVet | Survey data into practical\, profit-driving insights
DESCRIPTION:Subject: IVPD & BBVet | Survey data into practical\, profit-driving insights\nSpeakers: Larry van Niewkerk & Rob White\nOrganizer: IVPD & BBVet\nLINK: REGISTER HERE \nTopic: IVPD & BBVet: Survey data into practical\, profit-driving insights.\nDescription: IVPD & BBVET WEBINAR FOR SOUTH AFRICAN VETERINARY PRACTICES\nFollowing the successful completion of South Africa’s inaugural Ultimate Fees Survey\, the Institute of Veterinary Practitioners’ Development (IVPD) and BBVet invite you to a must-attend industry webinar designed to turn survey data into practical\, profit-driving insights.\nThis session is specifically built for practice owners\, managers\, and decision-makers who want clarity on fees\, confidence in pricing decisions\, and visibility into how their practice compares—locally and globally.\n-️ WEBINAR AGENDA\n1. Welcome & Industry Context\nThe strategic importance of independent\, profession-led benchmarking\nHow this initiative strengthens South African veterinary businesses\n2. Who is BBVet & Why Global Benchmarking Matters\n3. Deep Dive: South Africa’s Ultimate Fees Survey Results\nPresented by: Rob White & Larry van Niewkerk\nWhat data was collected and why it matters\nWho participated: practice types\, locations\, and cohorts\nHow to correctly interpret and analyse your results\nWhy this survey is one of the most powerful tools available to practice managers\nThis section will help you move from “interesting numbers” to clear business decisions.\n4. The Future of Benchmarking in South Africa\nPresented by: IVPD & BBVet\nIVPD’s ongoing role in supporting the profession\nUpcoming survey options beyond fees\nHow benchmarking evolves from a one-off exercise into a long-term management asset\nLive demonstrations of survey outputs using established Australian benchmarks as real-world examples\n5. Investment\, Access & Value\nPresented by: Larry van Niekerk & Rob White\nExpected cost structure for South African practices\nValue-based access options\nWhy the return on insight typically outweighs the cost many times over \n6. Live Q&A and Next Steps\nOpen discussion\nHow to participate in upcoming surveys\nHow to get the most value from BBVet tools moving forward \nDisclaimer: This information is exclusively intended for registered veterinary and para-veterinary professionals.
URL:https://veterinary.co.za/event-main/ivpd-bbvet-survey-data-into-practical-profit-driving-insights/
LOCATION:Webinar\, *Online\, South Africa
CATEGORIES:*Webinar
ATTACH;FMTTYPE=image/jpeg:https://veterinary.co.za/wp-content/uploads/2026/01/ivpd-and-bbvet-benchmarking-webinar.jpg
END:VEVENT
END:VCALENDAR