BEGIN:VCALENDAR
VERSION:2.0
PRODID:-//Veterinary.co.za - ECPv6.2.3.2//NONSGML v1.0//EN
CALSCALE:GREGORIAN
METHOD:PUBLISH
X-WR-CALNAME:Veterinary.co.za
X-ORIGINAL-URL:https://veterinary.co.za
X-WR-CALDESC:Events for Veterinary.co.za
REFRESH-INTERVAL;VALUE=DURATION:PT1H
X-Robots-Tag:noindex
X-PUBLISHED-TTL:PT1H
BEGIN:VTIMEZONE
TZID:Europe/Helsinki
BEGIN:DAYLIGHT
TZOFFSETFROM:+0200
TZOFFSETTO:+0300
TZNAME:EEST
DTSTART:20260329T010000
END:DAYLIGHT
BEGIN:STANDARD
TZOFFSETFROM:+0300
TZOFFSETTO:+0200
TZNAME:EET
DTSTART:20261025T010000
END:STANDARD
END:VTIMEZONE
BEGIN:VEVENT
DTSTART;TZID=Europe/Helsinki:20260411T083000
DTEND;TZID=Europe/Helsinki:20260411T160000
DTSTAMP:20260421T012147
CREATED:20260403T110029Z
LAST-MODIFIED:20260403T110526Z
UID:10000359-1775896200-1775923200@veterinary.co.za
SUMMARY:VETSQUARED INNOVET | Foundational Leadership for Veterinary Professionals
DESCRIPTION:Subject: Foundational Leadership for Veterinary Professionals\nSpeakers: Dr Larry van Niekerk\nOrganizer: Vetsquared Innovet\nLINK: REGISTER HERE \nThe 4 Pillars to Leading High-Performing Teams \nOne-Day Intensive Workshop for Veterinary Practice Owners & Leadership Teams \nModule 1: Understanding your leadership environment – why your vision isn’t translating to your team\nModule 2: Building systems that work without you – stop being the bottleneck\nModule 3: Implementation that sticks – the actions and conversations that drive results\nModule 4: Building high-performing teams – creating a culture people don’t want to leave \nDon’t let burnout force your hand. Make the choice now.\nSee you there.
URL:https://veterinary.co.za/event-main/vetsquared-innovet-foundational-leadership-for-veterinary-professionals/
LOCATION:Bryanston Veterinary Hospital\, Johannesburg\, Gauteng\, 6 Ballyclare Drive\, cnr William Nicol Drive Bryanston\, Johannesburg\, Gauteng\, 2191\, South Africa
CATEGORIES:In-Person Event
ATTACH;FMTTYPE=image/jpeg:https://veterinary.co.za/wp-content/uploads/2026/04/2026.04.11-vet-squared-innovet-leadership-scaled.jpg
END:VEVENT
END:VCALENDAR