BEGIN:VCALENDAR
VERSION:2.0
PRODID:-//Veterinary.co.za - ECPv6.2.3.2//NONSGML v1.0//EN
CALSCALE:GREGORIAN
METHOD:PUBLISH
X-WR-CALNAME:Veterinary.co.za
X-ORIGINAL-URL:https://veterinary.co.za
X-WR-CALDESC:Events for Veterinary.co.za
REFRESH-INTERVAL;VALUE=DURATION:PT1H
X-Robots-Tag:noindex
X-PUBLISHED-TTL:PT1H
BEGIN:VTIMEZONE
TZID:Europe/Helsinki
BEGIN:DAYLIGHT
TZOFFSETFROM:+0200
TZOFFSETTO:+0300
TZNAME:EEST
DTSTART:20260329T010000
END:DAYLIGHT
BEGIN:STANDARD
TZOFFSETFROM:+0300
TZOFFSETTO:+0200
TZNAME:EET
DTSTART:20261025T010000
END:STANDARD
END:VTIMEZONE
BEGIN:VEVENT
DTSTART;TZID=Europe/Helsinki:20260319T120000
DTEND;TZID=Europe/Helsinki:20260319T133000
DTSTAMP:20260421T031843
CREATED:20260315T142218Z
LAST-MODIFIED:20260419T200544Z
UID:10000345-1773921600-1773927000@veterinary.co.za
SUMMARY:SAVC | How do I ...Ensure compliance when compounding [WATCH RECORDING]
DESCRIPTION:Subject: How do I …Ensure compliance when compounding\nSpeakers: Prof Vinny Naidoo & Dinamarie Stoltz\nOrganizer: SAVC\nEvent Link: WATCH RECORDING \nThe discussion will focus on: Overview of drug formulations Brief overview on drug/vaccine R&D – from development to market availability Difference between innovator\, generics and compounded remedies Section 21 as an alternative Risks in the use of the different remedies Legal responsibilities Bonusing\, discounts\, and commissions \nDisclaimer: This information is exclusively intended for registered veterinary and para-veterinary professionals.
URL:https://veterinary.co.za/event-main/savc-how-do-i-ensure-compliance-when-compounding/
LOCATION:Webinar\, *Online\, South Africa
CATEGORIES:*Webinar,Watch Recordings
ATTACH;FMTTYPE=image/jpeg:https://veterinary.co.za/wp-content/uploads/2026/03/2026.03.19-SAVC-how-do-ensure-compliance-when-compounding-scaled.jpg
END:VEVENT
END:VCALENDAR