BEGIN:VCALENDAR
VERSION:2.0
PRODID:-//Veterinary.co.za - ECPv6.2.3.2//NONSGML v1.0//EN
CALSCALE:GREGORIAN
METHOD:PUBLISH
X-ORIGINAL-URL:https://veterinary.co.za
X-WR-CALDESC:Events for Veterinary.co.za
REFRESH-INTERVAL;VALUE=DURATION:PT1H
X-Robots-Tag:noindex
X-PUBLISHED-TTL:PT1H
BEGIN:VTIMEZONE
TZID:Europe/Helsinki
BEGIN:DAYLIGHT
TZOFFSETFROM:+0200
TZOFFSETTO:+0300
TZNAME:EEST
DTSTART:20260329T010000
END:DAYLIGHT
BEGIN:STANDARD
TZOFFSETFROM:+0300
TZOFFSETTO:+0200
TZNAME:EET
DTSTART:20261025T010000
END:STANDARD
END:VTIMEZONE
BEGIN:VEVENT
DTSTART;TZID=Europe/Helsinki:20260226T120000
DTEND;TZID=Europe/Helsinki:20260226T133000
DTSTAMP:20260421T031858
CREATED:20260221T051040Z
LAST-MODIFIED:20260419T200437Z
UID:10000330-1772107200-1772112600@veterinary.co.za
SUMMARY:SAVC | How do I ... take ownership of my well-being? [WATCH RECORDING]
DESCRIPTION:Subject: How do I … take ownership of my well-being?\nSpeakers: Miss Retha Watson\nOrganizer: SAVC\nEvent Link: WATCH RECORDING \nOverview: \n\nAn overview of trauma and stress in our professional and social lives.\nManaging difficult conversations with owners of patients.\nDiscussion of the armouring concept for mental and emotional wellness.\nAm I coping\, thriving or drowning?\n\nPresenter: Retha Watson \nRetha Watson has a Master’s degree in Industrial and Organisational Psychology.\nShe headed the SAPS national trauma and suicide prevention programme for 18 years.\nShe was the psychologist for the Special Task Force and high-risk units in the police and designed various pro-active programmes to support police officials with trauma and stress. Retha moved on to her own consultancy where she provided counselling services to organisations.\nShe was a lecturer for Master IOP students at North-West University in counselling and trauma counselling.\nShe had the honour of writing a series of wellness articles for SAVC and Vet 360 in 2025 and 2026.\nRetha has since “retired” as a psychologist and went on a different career path in the agricultural sector\, yet still in the leadership development and selection environment. \nDisclaimer: This information is exclusively intended for registered veterinary and para-veterinary professionals.
URL:https://veterinary.co.za/event-main/savc-how-do-i-take-ownership-of-my-well-being/
LOCATION:Webinar\, *Online\, South Africa
CATEGORIES:*Webinar,Watch Recordings
ATTACH;FMTTYPE=image/jpeg:https://veterinary.co.za/wp-content/uploads/2026/02/savc-how-do-I-series.jpg
END:VEVENT
END:VCALENDAR