BEGIN:VCALENDAR
VERSION:2.0
PRODID:-//Veterinary.co.za - ECPv6.2.3.2//NONSGML v1.0//EN
CALSCALE:GREGORIAN
METHOD:PUBLISH
X-WR-CALNAME:Veterinary.co.za
X-ORIGINAL-URL:https://veterinary.co.za
X-WR-CALDESC:Events for Veterinary.co.za
REFRESH-INTERVAL;VALUE=DURATION:PT1H
X-Robots-Tag:noindex
X-PUBLISHED-TTL:PT1H
BEGIN:VTIMEZONE
TZID:Europe/Helsinki
BEGIN:DAYLIGHT
TZOFFSETFROM:+0200
TZOFFSETTO:+0300
TZNAME:EEST
DTSTART:20260329T010000
END:DAYLIGHT
BEGIN:STANDARD
TZOFFSETFROM:+0300
TZOFFSETTO:+0200
TZNAME:EET
DTSTART:20261025T010000
END:STANDARD
END:VTIMEZONE
BEGIN:VEVENT
DTSTART;TZID=Europe/Helsinki:20260420T203000
DTEND;TZID=Europe/Helsinki:20260420T220000
DTSTAMP:20260420T171057
CREATED:20260412T145308Z
LAST-MODIFIED:20260412T145308Z
UID:10000366-1776717000-1776722400@veterinary.co.za
SUMMARY:IDEXX | Unlocking Diagnostic Insights with inVue Dx™ Part 2: Ear Cytology Made Simple
DESCRIPTION:Subject: Unlocking Diagnostic Insights with inVue Dx™ Part 2: Ear Cytology Made Simple\nSpeakers: Dr Alice Tamborini & Dr Ariane Neuber\nOrganizer: Idexx\nLINK: REGISTER HERE \nPresenters:\nDr Alice Tamborini – DVM DipECVIM-CA MRCVS\, EU Advocacy and Medical Affairs Specialist – IDEXX\nDr Ariane Neuber – DrMedVet CertVD DECVD MRCVS EBVS & RCVS Specialist in Veterinary Dermatology\, Medical Consultant Dermatology – IDEXX \nThis webinar provides a practical\, case-based introduction to using the inVue Dx™ Cellular Analyser for evaluating ear cytology samples in patients with suspected otitis. Participants will learn the essential principles of ear cytology interpretation and see how the inVue Dx™ platform supports fast\, reliable identification of key findings—including bacteria\, yeast\, white blood cells and mites. Through real clinical case examples\, the session will demonstrate how integrating inVue Dx™ results into the diagnostic workflow can improve accuracy\, strengthen clinical decision-making and support more targeted treatment planning. \nDisclaimer: This information is exclusively intended for registered veterinary and para-veterinary professionals.
URL:https://veterinary.co.za/event-main/idexx-unlocking-diagnostic-insights-with-invue-dx-part-2-ear-cytology-made-simple/
LOCATION:Webinar\, *Online\, South Africa
CATEGORIES:*Webinar
ATTACH;FMTTYPE=image/jpeg:https://veterinary.co.za/wp-content/uploads/2026/04/2026.04.20-idexx-Unlocking-Diagnostic-Insights-with-inVue-Dx™-Part-2.jpg
END:VEVENT
BEGIN:VEVENT
DTSTART;TZID=Europe/Helsinki:20260422T190000
DTEND;TZID=Europe/Helsinki:20260422T200000
DTSTAMP:20260420T171057
CREATED:20260401T111018Z
LAST-MODIFIED:20260401T111018Z
UID:10000355-1776884400-1776888000@veterinary.co.za
SUMMARY:VET BOOSTER | Webinar Invitation
DESCRIPTION:Subject: Vet Booster – Webinar Invitation\nSpeakers: Mark Slaughter\, Dean Webb and Dave Oxenham\nOrganizer: The Legacy Group\nLINK: REGISTER HERE \nVet Booster is the culmination of years of collaboration with veterinary partners. It empowers vets with a platform to strengthen client relationships\, enhance their practice’s value\, and support both their financial and emotional well-being in a demanding profession. At The Legacy Group\, we are committed to making a difference—for pets\, their owners\, and the professionals who care for them. \nWe invite you to join one of our upcoming Vet Booster webinars for April 2026: \nThese sessions will briefly unpack the Vet Booster platform\, share our vision\, and provide an opportunity to ask questions. \nA growing share of veterinary retail revenue has shifted to large online retailers\, often at the expense of practices. Vet Booster has been developed to help vets take that revenue back\, while also driving increased engagement and more in-practice visits through wellness and preventative care. \nWe’d appreciate the opportunity to share both the vision and the intent behind Vet Booster. \nDisclaimer: This information is exclusively intended for registered veterinary and para-veterinary professionals.
URL:https://veterinary.co.za/event-main/vet-booster-webinar-invitation-4/
LOCATION:Webinar\, *Online\, South Africa
CATEGORIES:*Webinar
ATTACH;FMTTYPE=image/jpeg:https://veterinary.co.za/wp-content/uploads/2026/03/2026.03.26-vet-booster-webinar-1-scaled.jpg
END:VEVENT
BEGIN:VEVENT
DTSTART;TZID=Europe/Helsinki:20260423T130000
DTEND;TZID=Europe/Helsinki:20260423T134500
DTSTAMP:20260420T171057
CREATED:20260419T095920Z
LAST-MODIFIED:20260419T190906Z
UID:10000367-1776949200-1776951900@veterinary.co.za
SUMMARY:DIGIVET | Lunch\, Learn & Level Up - Harness AI To Eliminate Revenue Leakage And Automate Patient Reporting
DESCRIPTION:Subject: Lunch\, Learn & Level Up – Harness AI To Eliminate Revenue Leakage And Automate Patient Reporting\nSpeakers: Dr Patrik Holmboe\nOrganizer: DigiVet\nLINK:\nREGISTER HERE – Option 1: Thursday 23 April 2026 @ 13:00\nREGISTER HERE – Option 2: Thursday 7 May 2026 @ 13:00 \nJoin our lunch & learn online webinars and find out more about navigating the top constraints impacting South African Veterinary success. Join Dr Patrik Holmboe from Nova Vet Family\, at our upcoming lunch & learn webinars to get to know more about overcoming these challenges in your practice\, with two simple and effective AI solutions. \nSmartCapture\nOne of the most overlooked threats to clinic profitability is “missed charges”—services performed that never make it onto the final invoice. Industry data shows clinics lose an estimated 5–10% of revenue every month to these discrepancies.\nUsing a powerful algorithm\, SmartCapture scans clinical notes against historical billing data to flag potential missed charges automatically\, removing the need for manual audits. \nVetifyPro 4.0\nEvery week\, a new veterinary AI tool promises to transform your clinic—but how many actually fit your workflow?\nEnter VetifyPro 4.0 – a single\, seamless digital ecosystem that puts everything you need in one place:\n• 🎙️ Speech-to-Text Scribe: Automate clinical notes in real-time.\n• 🧠 Clinical Support: Instant\, evidence-based decision support.\n• 💬 Client Communication: Streamlined updates and engagement.\nFully mobile\, it’s built to save you time and sharpen outcomes so you can focus on what matters most: your patients. \nDisclaimer: This information is exclusively intended for registered veterinary and para-veterinary professionals.
URL:https://veterinary.co.za/event-main/navigating-the-top-costratints-impacting-vet-success/
LOCATION:Webinar\, *Online\, South Africa
CATEGORIES:*Webinar
ATTACH;FMTTYPE=image/png:https://veterinary.co.za/wp-content/uploads/2026/04/2026.04.23-digivet-lunch-and-learn-NEW-scaled.png
ORGANIZER;CN="DigiVet":MAILTO:info@digivet.africa
END:VEVENT
BEGIN:VEVENT
DTSTART;TZID=Europe/Helsinki:20260423T190000
DTEND;TZID=Europe/Helsinki:20260423T203000
DTSTAMP:20260420T171057
CREATED:20260412T144208Z
LAST-MODIFIED:20260412T144208Z
UID:10000364-1776970800-1776976200@veterinary.co.za
SUMMARY:VIRBAC | Recurrent Otitis Externa in Dogs
DESCRIPTION:Subject: Recurrent Otitis Externa in Dogs\nSpeakers: Dr Estee van Zyl\nOrganizer: Virbac\nLINK: REGISTER HERE \nSpeaker:\nDr Estee van Zyl is a Veterinary Internal Medicine Specialist and Head of the Internal Medicine Department at Fourways Veterinary Hospital. She leads a dedicated team comprising one additional specialist\, two residents\, and an intern.\nEstee joined the hospital in 2014\, where she discovered her passion for internal medicine. She started her Honours in 2016 and pursued her residency in 2018 under the mentorship of Dr Alain Carter.\nShe has a particular interest in managing diabetes in pets and is committed to improving patient outcomes while supporting pet owners through complex medical journeys.\nOutside of work\, she enjoys spending time with her husband and their two lively miniature schnauzers. \nDisclaimer: This information is exclusively intended for registered veterinary and para-veterinary professionals.
URL:https://veterinary.co.za/event-main/virbac-recurrent-otitis-externa-in-dogs/
LOCATION:Webinar\, *Online\, South Africa
CATEGORIES:*Webinar
ATTACH;FMTTYPE=image/jpeg:https://veterinary.co.za/wp-content/uploads/2026/04/2026.04.23-virbac-recurrent-otiits-externa.jpg
END:VEVENT
BEGIN:VEVENT
DTSTART;TZID=Europe/Helsinki:20260429T190000
DTEND;TZID=Europe/Helsinki:20260429T200000
DTSTAMP:20260420T171057
CREATED:20260401T111437Z
LAST-MODIFIED:20260401T111437Z
UID:10000357-1777489200-1777492800@veterinary.co.za
SUMMARY:VET BOOSTER | Webinar Invitation
DESCRIPTION:Subject: Vet Booster – Webinar Invitation\nSpeakers: Mark Slaughter\, Dean Webb and Dave Oxenham\nOrganizer: The Legacy Group\nLINK: REGISTER HERE \nVet Booster is the culmination of years of collaboration with veterinary partners. It empowers vets with a platform to strengthen client relationships\, enhance their practice’s value\, and support both their financial and emotional well-being in a demanding profession. At The Legacy Group\, we are committed to making a difference—for pets\, their owners\, and the professionals who care for them. \nWe invite you to join one of our upcoming Vet Booster webinars for April 2026: \nThese sessions will briefly unpack the Vet Booster platform\, share our vision\, and provide an opportunity to ask questions. \nA growing share of veterinary retail revenue has shifted to large online retailers\, often at the expense of practices. Vet Booster has been developed to help vets take that revenue back\, while also driving increased engagement and more in-practice visits through wellness and preventative care. \nWe’d appreciate the opportunity to share both the vision and the intent behind Vet Booster. \nDisclaimer: This information is exclusively intended for registered veterinary and para-veterinary professionals.
URL:https://veterinary.co.za/event-main/vet-booster-webinar-invitation-6/
LOCATION:Webinar\, *Online\, South Africa
CATEGORIES:*Webinar
ATTACH;FMTTYPE=image/jpeg:https://veterinary.co.za/wp-content/uploads/2026/03/2026.03.26-vet-booster-webinar-1-scaled.jpg
END:VEVENT
BEGIN:VEVENT
DTSTART;TZID=Europe/Helsinki:20260429T200000
DTEND;TZID=Europe/Helsinki:20260429T213000
DTSTAMP:20260420T171057
CREATED:20260325T211733Z
LAST-MODIFIED:20260416T184718Z
UID:10000351-1777492800-1777498200@veterinary.co.za
SUMMARY:IDEXX | April VetSpecialist Exchange Webinar: Electrolytes in Critical Care: Navigating Complex Imbalances
DESCRIPTION:Subject: Electrolytes in Critical Care: Navigating Complex Imbalances\nSpeakers: Dr. Alessio Vigani\nOrganizer: Idexx\nLINK: REGISTER HERE \nDescription: \nElectrolyte disturbances are common in critically ill patients and are associated with worse clinical outcomes. Although electrolytes are routinely monitored in intensive care units (ICUs)\, their exact prevalence and prognostic impact in medical ICU populations remain incompletely defined. Critically ill patients are particularly susceptible to both depletion and excess of key electrolytes\, which may arise from underlying disease processes and can contribute to clinical deterioration. Multiple electrolyte abnormalities often occur simultaneously and may share a common underlying cause. While some imbalances are transient or asymptomatic\, recognizing and addressing them is essential because uncorrected disturbances are more frequently observed in non-survivors than survivors. Management should prioritize identifying and correcting the underlying cause while adjusting electrolyte intake\, clearance\, or distribution as needed. Because ICU patients have complex and dynamic conditions\, electrolyte therapy must be individualized and carefully monitored to avoid harm. \nSpeaker: \nAlessio Vigani is currently professor and medical director of emergency\, critical care and extracorporeal therapy at The University of Zurich Small Animal Hospital. Alessio received his D.V.M. degree Summa Cum Laude from the University of Milan in 2006 and then obtained his PhD degree in clinical sciences. He completed a small animal rotating internship at the Ohio State University in Columbus in 2009. He subsequently pursued two consecutive residency programs in veterinary anesthesia and analgesia and emergency and critical care at the University of Florida. He is an ACVAA diplomate since 2012\, ACVECC diplomate since 2014\, and ECVECC diplomate since 2019. He previously worked as Clinical Assistant Professor in Emergency\, Critical Care and Extracorporeal therapy at North Carolina State University from 2015 until 2019. His special interests include acute kidney injury\, extracorporeal blood purification\, regional anesthesia in critical care\, and hemodynamics. \nDisclaimer: This information is exclusively intended for registered veterinary and para-veterinary professionals.
URL:https://veterinary.co.za/event-main/idexx-april-vetspecialist-exchange-webinar-electrolytes-in-critical-care-navigating-complex-imbalances/
LOCATION:Webinar\, *Online\, South Africa
CATEGORIES:*Webinar
ATTACH;FMTTYPE=image/jpeg:https://veterinary.co.za/wp-content/uploads/2026/03/2026.04.08-idexx-april-vetspecialist-exchange-webinar.jpg
END:VEVENT
END:VCALENDAR