BEGIN:VCALENDAR
VERSION:2.0
PRODID:-//Veterinary.co.za - ECPv6.2.3.2//NONSGML v1.0//EN
CALSCALE:GREGORIAN
METHOD:PUBLISH
X-ORIGINAL-URL:https://veterinary.co.za
X-WR-CALDESC:Events for Veterinary.co.za
REFRESH-INTERVAL;VALUE=DURATION:PT1H
X-Robots-Tag:noindex
X-PUBLISHED-TTL:PT1H
BEGIN:VTIMEZONE
TZID:Europe/Helsinki
BEGIN:DAYLIGHT
TZOFFSETFROM:+0200
TZOFFSETTO:+0300
TZNAME:EEST
DTSTART:20260329T010000
END:DAYLIGHT
BEGIN:STANDARD
TZOFFSETFROM:+0300
TZOFFSETTO:+0200
TZNAME:EET
DTSTART:20261025T010000
END:STANDARD
END:VTIMEZONE
BEGIN:VEVENT
DTSTART;TZID=Europe/Helsinki:20260324T190000
DTEND;TZID=Europe/Helsinki:20260324T203000
DTSTAMP:20260420T204319
CREATED:20260321T182231Z
LAST-MODIFIED:20260419T191205Z
UID:10000346-1774378800-1774384200@veterinary.co.za
SUMMARY:DIGIVET | AI Solutions for Veterinary Practices [WATCH RECORDING]
DESCRIPTION:Subject: AI Solutions for Veterinary Practices\nSpeakers: Stephan Schoeman\, Gregory MacLennan & Dr Patrik Holmboe\nOrganizer: DigiVet\nLINK: WATCH RECORDING \nDiscover how our digital & AI solutions are liberating veterinary practitioners across South Africa. \nWhat to expect: \n\nStephan Schoeman – Google South Africa – A Google Perspective on a Changing World\nGregory MacLennan – DigiCloud Africa – The Entrepreneurial Edge: Navigating the AI Shift to protect margins & reclaim your time\nDr Patrik Holmboe – Nova Vet Family – AI in Veterinary Medicine: Why it matters right now?\n\nInternational speakers from Nova Vet Family\, Industry experts from Google\, a word from Dr Hugh at The Vet Vault\, live demos and more! \nDisclaimer: This information is exclusively intended for registered veterinary and para-veterinary professionals.
URL:https://veterinary.co.za/event-main/digivet-ai-solutions-for-veterinary-practices/
LOCATION:Webinar\, *Online\, South Africa
CATEGORIES:*Webinar,Watch Recordings
ATTACH;FMTTYPE=image/png:https://veterinary.co.za/wp-content/uploads/2026/03/2026.03.24-digivet-AI-solutions-for-vet-practices-scaled.png
ORGANIZER;CN="DigiVet":MAILTO:info@digivet.africa
END:VEVENT
BEGIN:VEVENT
DTSTART;TZID=Europe/Helsinki:20260324T213000
DTEND;TZID=Europe/Helsinki:20260324T230000
DTSTAMP:20260420T204319
CREATED:20260321T183744Z
LAST-MODIFIED:20260321T183744Z
UID:10000347-1774387800-1774393200@veterinary.co.za
SUMMARY:IDEXX | Unlocking Diagnostic Insights with inVue Dx™ Part 1: Blood Morphology in Practice
DESCRIPTION:Subject: Unlocking Diagnostic Insights with inVue Dx™ Part 1: Blood Morphology in Practice\nSpeakers: Dr Alice Tamborini & Dr Emma Dewhurst\nOrganizer: Idexx\nLINK: REGISTER HERE \nPresenters:\nDr Alice Tamborini – DVM DipECVIM-CA MRCVS\, EU Advocacy and Medical Affairs Specialist – IDEXX\nDr Emma Dewhurst – MA VetMB\, FRCPath\, DipECVCP\, MRCVS\, Clinical Pathologist Consultant – IDEXX \nThis webinar offers a practical introduction to using the inVue Dx™ Cellular Analyser to assess blood morphology and identify subtle cellular characteristics that support clinical decision-making. Participants will review the fundamentals of blood-film evaluation and see how enhanced visualisation with inVue Dx™ aids in recognising morphological changes that may influence diagnostic interpretation. Clinical case examples will illustrate how these findings can contribute to improved diagnostic outcomes. \nDisclaimer: This information is exclusively intended for registered veterinary and para-veterinary professionals.
URL:https://veterinary.co.za/event-main/idexx-unlocking-diagnostic-insights-with-invue-dx-part-1-blood-morphology-in-practice/
LOCATION:Webinar\, *Online\, South Africa
CATEGORIES:*Webinar
ATTACH;FMTTYPE=image/jpeg:https://veterinary.co.za/wp-content/uploads/2026/03/2026.03.24-idexx-Unlocking-Diagnostic-Insights-with-inVue-Dx™-Part-1-Blood-Morphology-in-Practice.jpg
END:VEVENT
END:VCALENDAR