BEGIN:VCALENDAR
VERSION:2.0
PRODID:-//Veterinary.co.za - ECPv6.2.3.2//NONSGML v1.0//EN
CALSCALE:GREGORIAN
METHOD:PUBLISH
X-ORIGINAL-URL:https://veterinary.co.za
X-WR-CALDESC:Events for Veterinary.co.za
REFRESH-INTERVAL;VALUE=DURATION:PT1H
X-Robots-Tag:noindex
X-PUBLISHED-TTL:PT1H
BEGIN:VTIMEZONE
TZID:Europe/Helsinki
BEGIN:DAYLIGHT
TZOFFSETFROM:+0200
TZOFFSETTO:+0300
TZNAME:EEST
DTSTART:20260329T010000
END:DAYLIGHT
BEGIN:STANDARD
TZOFFSETFROM:+0300
TZOFFSETTO:+0200
TZNAME:EET
DTSTART:20261025T010000
END:STANDARD
END:VTIMEZONE
BEGIN:VEVENT
DTSTART;TZID=Europe/Helsinki:20260317T083000
DTEND;TZID=Europe/Helsinki:20260318T170000
DTSTAMP:20260420T204158
CREATED:20260315T140219Z
LAST-MODIFIED:20260315T142731Z
UID:10000342-1773736200-1773853200@veterinary.co.za
SUMMARY:NVCG | The Veterinary Masterclass 2026 - March Neurology - Cape Town
DESCRIPTION:Subject: NVCG | The Veterinary Masterclass 2026 – March: Neurology – Cape Town\nSpeaker: Dr Steven De Decker\nOrganizer: NVCG\nLINK: REGISTER HERE \nDr Steven De Decker \nDVM\, PhD\, DipECVN\, MvetMed\, FHEA\, PGCert Vet Ed\, MRCVS\nClinical Director and Professor Neurology and Neurosurgery\nChair Education Committee European College of Veterinary Neurology\nRoyal Veterinary College\, University of London\, United Kingdom \nSteven graduated from Ghent University in Belgium. After graduation\, he performed there a Rotating Internship followed by a PhD about disk- associated cervical spondylomyelopathy (‘wobbler’s syndrome’) in dogs. He completed his Residency in Neurology and Neurosurgery at the Royal Veterinary College (RVC) in the United Kingdom. After becoming a board- certified neurology specialist\, he stayed on at the RVC and is now Professor in Neurology and Neurosurgery. He has been Head of service for Neurology and Neurosurgery for almost 10 years and is now Clinical Director of the RVC’s Small Animal Referral Hospital. Although he is interested in all aspects of veterinary neurology\, most of his research and publications focus on spinal disorders\, neurosurgery and clinical reasoning. Steven has published more than 170 papers in international journals\, presented most of his work at international conferences\, and published in 2023 a neurology guide aimed to make neurology more accessible for the clinical practitioner. He enjoys teaching and is therefore regularly involved in continuing education events around the world. \n 
URL:https://veterinary.co.za/event-main/nvcg-the-veterinary-masterclass-2026-march-neurology/
LOCATION:Protea Hotel Technopark Stellenbosch\, Western Cape\, Techno Ave\, Techno Park\, Stellenbosch\, Western Cape\, 7600\, South Africa
CATEGORIES:In-Person Event
ATTACH;FMTTYPE=image/jpeg:https://veterinary.co.za/wp-content/uploads/2026/03/2026.03.17-NVCG-roadshow-neurology.jpg
END:VEVENT
END:VCALENDAR