BEGIN:VCALENDAR
VERSION:2.0
PRODID:-//Veterinary.co.za - ECPv6.2.3.2//NONSGML v1.0//EN
CALSCALE:GREGORIAN
METHOD:PUBLISH
X-WR-CALNAME:Veterinary.co.za
X-ORIGINAL-URL:https://veterinary.co.za
X-WR-CALDESC:Events for Veterinary.co.za
REFRESH-INTERVAL;VALUE=DURATION:PT1H
X-Robots-Tag:noindex
X-PUBLISHED-TTL:PT1H
BEGIN:VTIMEZONE
TZID:Europe/Helsinki
BEGIN:DAYLIGHT
TZOFFSETFROM:+0200
TZOFFSETTO:+0300
TZNAME:EEST
DTSTART:20260329T010000
END:DAYLIGHT
BEGIN:STANDARD
TZOFFSETFROM:+0300
TZOFFSETTO:+0200
TZNAME:EET
DTSTART:20261025T010000
END:STANDARD
END:VTIMEZONE
BEGIN:VEVENT
DTSTART;TZID=Europe/Helsinki:20260212T193000
DTEND;TZID=Europe/Helsinki:20260212T203000
DTSTAMP:20260420T224538
CREATED:20260131T191925Z
LAST-MODIFIED:20260208T140636Z
UID:10000322-1770924600-1770928200@veterinary.co.za
SUMMARY:HILL'S | Webinar #1: Wellness Webinar - The Busy Mind\, the Tired Heart\, and the Path Back to Joy
DESCRIPTION:Subject: The Busy Mind\, the Tired Heart\, and the Path Back to Joy\nSpeaker: Dr Bert Mohr\nOrganizer: Hill’s Pet Nutrition\nLINK:  REGISTER HERE \nVeterinarians and vet nurses carry exceptionally active\, capable minds — a gift that serves patients well\, but which can quietly turn against us under sustained pressure. After a demanding end-of-year period\, many in the profession experience anxiety\, low mood\, emotional strain\, exhaustion\, or burnout\, often without knowing how to speak about it.\nThis webinar offers a compassionate conversation about why this happens\, why you are not alone\, and how reaching for support — whether through conversation\, professional care\, or medication when appropriate — can be a wise and healthy step.\nDrawing o‌n lived experience\, Dr Bert Mohr shares practical\, accessible tools to help calm the nervous system\, create space around a busy inner dialogue\, and reconnect with ease\, balance\, meaning\, and joy in both work and life. \nDr Bert Mohr\nDipECVIM\, DPhil Oxford\nBert is a leading keynote speaker on wellbeing in the veterinary and animal care industries. In sharing his own path from burnout to breakthrough\, he inspires audiences by presenting practical mindfulness techniques that build resilience and promote the mental-emotional wellbeing of animal care personnel. He is a successful entrepreneur\, internationally recognised veterinary specialist with an Oxford PhD\, an authority on animal ethics\, founder and CEO of Scientific Veterinary Consulting\, and experienced at leadership. He loves being with his wife\, children\, friends and dogs\, time in nature\, ultra-trail running\, surfing and wilderness camping.
URL:https://veterinary.co.za/event-main/hills-the-busy-mind-wellness-webinar-for-the-veterinary-profession/
LOCATION:Webinar\, *Online\, South Africa
CATEGORIES:*Webinar
ATTACH;FMTTYPE=image/jpeg:https://veterinary.co.za/wp-content/uploads/2026/01/hills-vet-enrichment-webinar-series.jpg
END:VEVENT
BEGIN:VEVENT
DTSTART;TZID=Europe/Helsinki:20260212T200000
DTEND;TZID=Europe/Helsinki:20260212T210000
DTSTAMP:20260420T224538
CREATED:20260131T191155Z
LAST-MODIFIED:20260131T191155Z
UID:10000321-1770926400-1770930000@veterinary.co.za
SUMMARY:V-NET | Disease Reporting
DESCRIPTION:Subject: Monthly Disease Reporting Feedback Meeting\nSpeakers: Multiple\nOrganizer: V-Net\nLINK: ZOOM MEETING | REGISTER HERE \n 
URL:https://veterinary.co.za/event-main/v-net-disease-reporting/
LOCATION:Webinar\, *Online\, South Africa
CATEGORIES:*Webinar
ATTACH;FMTTYPE=image/jpeg:https://veterinary.co.za/wp-content/uploads/2025/11/V-NET-MONTHLY-DISEASE-TRENDS-MEETING-NEW.jpg
END:VEVENT
BEGIN:VEVENT
DTSTART;TZID=Europe/Helsinki:20260212T200000
DTEND;TZID=Europe/Helsinki:20260212T213000
DTSTAMP:20260420T224538
CREATED:20260131T190917Z
LAST-MODIFIED:20260131T190917Z
UID:10000320-1770926400-1770931800@veterinary.co.za
SUMMARY:PURINA | Microbiome Forum Roundtable 2026: From early care to lifelong health - Diarrhea management in puppies and kittens
DESCRIPTION:Subject: Microbiome Forum Roundtable 2026: From early care to lifelong health – Diarrhea management in puppies and kittens\nSpeakers: Multiple\nOrganizer: Purina\nLINK: REGISTER HERE \nLearn how management of early-life gastrointestinal disorders can shape long-term health in dogs and cats.\nEarly-life acute intestinal issues in puppies and kittens can exert long-term effects on the health and well-being of your canine and feline patients. Join five leading veterinary experts as they share evidence-based strategies for managing diarrhea in puppies and kittens\, with a focus on reducing the risk of chronic conditions and promoting optimal health throughout adulthood. \nWhat you will learn\nBy attending this webinar\, you will be able to:\n■ Identify how early-life gastrointestinal diseases influence long-term health outcomes\n■ Explain the pathophysiological mechanisms by which enteritis—such as giardiasis and parvoviral enteritis—disrupts gut integrity and increases chronic disease risk\n■ Evaluate appropriate indications for antibiotic therapy in puppies and kittens\, and apply strategies to minimize antibiotic-associated dysbiosis\n■ Implement optimal protocols for managing acute diarrhea in puppies and kittens to mitigate dysbiosis\, preserve gut barrier function\, and reduce the risk of future gastrointestinal and dermatological disorders \nDisclaimer: This information is exclusively intended for registered veterinary and para-veterinary professionals.
URL:https://veterinary.co.za/event-main/purina-microbiome-forum-roundtable-2026-from-early-care-to-lifelong-health-diarrhea-management-in-puppies-and-kittens/
LOCATION:Webinar\, *Online\, South Africa
CATEGORIES:*Webinar
ATTACH;FMTTYPE=image/jpeg:https://veterinary.co.za/wp-content/uploads/2026/01/purina-microbiome-diarrhea.jpg
END:VEVENT
END:VCALENDAR