BEGIN:VCALENDAR
VERSION:2.0
PRODID:-//Veterinary.co.za - ECPv6.2.3.2//NONSGML v1.0//EN
CALSCALE:GREGORIAN
METHOD:PUBLISH
X-ORIGINAL-URL:https://veterinary.co.za
X-WR-CALDESC:Events for Veterinary.co.za
REFRESH-INTERVAL;VALUE=DURATION:PT1H
X-Robots-Tag:noindex
X-PUBLISHED-TTL:PT1H
BEGIN:VTIMEZONE
TZID:Europe/Helsinki
BEGIN:DAYLIGHT
TZOFFSETFROM:+0200
TZOFFSETTO:+0300
TZNAME:EEST
DTSTART:20260329T010000
END:DAYLIGHT
BEGIN:STANDARD
TZOFFSETFROM:+0300
TZOFFSETTO:+0200
TZNAME:EET
DTSTART:20261025T010000
END:STANDARD
END:VTIMEZONE
BEGIN:VEVENT
DTSTART;TZID=Europe/Helsinki:20260204T190000
DTEND;TZID=Europe/Helsinki:20260204T203000
DTSTAMP:20260420T224913
CREATED:20260131T184736Z
LAST-MODIFIED:20260131T184736Z
UID:10000318-1770231600-1770237000@veterinary.co.za
SUMMARY:SAVA | JHB Branch: Approach to neck pain in dogs
DESCRIPTION:Subject: Approach to neck pain in dogs\nSpeaker: Dr Liesel vd Merwe\nSponsor: Royal Canin\nLINK: REGISTER HERE \nIN PERSON EVENT RATES \n(Includes Dinner and Drinks)\nJohannesburg Branch Members – Free\nAll Other participants R325 \nhttps://savaevents.co.za/
URL:https://veterinary.co.za/event-main/sava-jhb-branch-approach-to-neck-pain-in-dogs/
LOCATION:Johannesburg Country Club\, Woodmead\, Gauteng\, Cnr Woodland Drive & Lincoln Street\, Woodmead\, Sandton\, 2128\, Johannesburg\, Gauteng\, South Africa
CATEGORIES:In-Person Event
ATTACH;FMTTYPE=image/jpeg:https://veterinary.co.za/wp-content/uploads/2026/01/SAVA-events-JHB-branch-scaled.jpg
END:VEVENT
BEGIN:VEVENT
DTSTART;TZID=Europe/Helsinki:20260204T193000
DTEND;TZID=Europe/Helsinki:20260204T203000
DTSTAMP:20260420T224913
CREATED:20260113T210043Z
LAST-MODIFIED:20260131T193555Z
UID:10000314-1770233400-1770237000@veterinary.co.za
SUMMARY:IDEXX | The Saxon Series - The Collapsed\, DKA\, Cushingoid Patient and Other Confusing Endocrine Comorbidities
DESCRIPTION:Subject: The Collapsed\, DKA\, Cushingoid Patient and Other Confusing Endocrine Comorbidities\nSpeakers: Dr Bill Saxon\nOrganizer: Idexx\nLINK: REGISTER HERE \nThe Saxon Series\nJoin us for a series of three webinars with Dr. Bill Saxon. Dr. Saxon has been an IDEXX Reference Laboratories internal medicine consultant since 1997. He is a coauthor of the Manual of Small Animal Emergency and Critical Care Medicine and has authored articles on cardiomyopathy\, acute abdomen disease\, drug toxicities and burn injury. Credentials: DVM\, DACVIM\, DACVECC \nThis session will provide a practical approach to diagnosing and treating patients that present with multiple endocrine abnormalities. The importance of appropriate test selection\, timing\, and interpretation of results will be addressed using case examples. Updated treatment recommendations will be covered. \nDisclaimer: This information is exclusively intended for registered veterinary and para-veterinary professionals.
URL:https://veterinary.co.za/event-main/idexx-the-collapsed-dka-cushingoid-patient-and-other-confusing-endocrine-comorbidities/
LOCATION:Webinar\, *Online\, South Africa
CATEGORIES:*Webinar
ATTACH;FMTTYPE=image/jpeg:https://veterinary.co.za/wp-content/uploads/2026/01/idexx-The-Collapsed-DKA-Cushingoid-Patient-and-Other-Confusing-Endocrine-Comorbidities.jpg
END:VEVENT
END:VCALENDAR