BEGIN:VCALENDAR
VERSION:2.0
PRODID:-//Veterinary.co.za - ECPv6.2.3.2//NONSGML v1.0//EN
CALSCALE:GREGORIAN
METHOD:PUBLISH
X-WR-CALNAME:Veterinary.co.za
X-ORIGINAL-URL:https://veterinary.co.za
X-WR-CALDESC:Events for Veterinary.co.za
REFRESH-INTERVAL;VALUE=DURATION:PT1H
X-Robots-Tag:noindex
X-PUBLISHED-TTL:PT1H
BEGIN:VTIMEZONE
TZID:Europe/Helsinki
BEGIN:DAYLIGHT
TZOFFSETFROM:+0200
TZOFFSETTO:+0300
TZNAME:EEST
DTSTART:20250330T010000
END:DAYLIGHT
BEGIN:STANDARD
TZOFFSETFROM:+0300
TZOFFSETTO:+0200
TZNAME:EET
DTSTART:20251026T010000
END:STANDARD
END:VTIMEZONE
BEGIN:VEVENT
DTSTART;TZID=Europe/Helsinki:20251203T190000
DTEND;TZID=Europe/Helsinki:20251203T203000
DTSTAMP:20260421T004829
CREATED:20251127T075903Z
LAST-MODIFIED:20260123T233622Z
UID:10000308-1764788400-1764793800@veterinary.co.za
SUMMARY:VIRBAC | Beyond Wildlife Anesthesia of Zoletil: A comprehensive overview of its use in Veterinary Anesthesia [WATCH RECORDING]
DESCRIPTION:Subject: Beyond Wildlife Anesthesia of Zoletil: A comprehensive overview of its use in Veterinary Anesthesia\nSpeakers: Dr Kenneth Joubert\nOrganizer: Virbac\nLINK: REQUEST RECORDING – support@vetlink.co.za \nKenneth Joubert\, BVSc (UP) MMedVet (Anaes)\, Specialist Anaesthetist \nKenneth graduated with a BVSc from The University of Pretoria in 1995. After graduating he joined small animal practice in Johannesburg for 2 years before returning to the University of Pretoria. In 2000 he obtained a MMedVet (Anaes) and held the position of senior lecturer in anaesthesiology at the university. In 2004 he left the university to re-join private practice before starting his own referral practice in anaesthesiology\, pain management and critical care. Kenneth has publish 34 scientific publications\, delivered 53 scientific presentations\,\ndelivered over 120 continuing education talks\, done 9 multimedia presentations\, published 37 non-scientific articles\, presented 3 course\, written one book chapter and attended 56 congress of continuing education. Kenneth currently holds an extra-ordinary lecturing post in\nPharmacology in the department of Paraclinical Sciences at the University of Pretoria and runs a private practice dedicated to anaesthesia\, analgesia and critical care. He has regularly examined students in pharmacology\, anaesthesiology and clinical studies.\nKenneth has a keen interest in total intravenous anaesthesia\, intensive care\, ventilation and cardiology. His research interests included non-steroidal anti-inflammatory agents\, anaesthetic depth monitoring and total intra-venous anaesthesia. \nDisclaimer: This information is exclusively intended for registered veterinary and para-veterinary professionals.
URL:https://veterinary.co.za/event-main/virbac-beyond-wildlife-anesthesia-of-zoletil/
LOCATION:Webinar\, *Online\, South Africa
CATEGORIES:*Webinar,Watch Recordings
ATTACH;FMTTYPE=image/jpeg:https://veterinary.co.za/wp-content/uploads/2025/11/virbac-beyond-wildlife-anaesthesia-of-zoletil-2-scaled.jpg
END:VEVENT
BEGIN:VEVENT
DTSTART;TZID=Europe/Helsinki:20251203T210000
DTEND;TZID=Europe/Helsinki:20251203T223000
DTSTAMP:20260421T004829
CREATED:20250806T212854Z
LAST-MODIFIED:20251127T081704Z
UID:10000264-1764795600-1764801000@veterinary.co.za
SUMMARY:IDEXX | Early Cancer Diagnosis: Don’t Miss the Warning Signs
DESCRIPTION:Subject: Early Cancer Diagnosis: Don’t Miss the Warning Signs\nSpeakers: Dr Dana Connell\nOrganizer: Idexx\nLINK: REGISTER HERE \nThis session will focus on the consideration and diagnosis of cancer earlier in the clinical course with integration into the existing clinical algorithm. The gathering of information starts from history-taking with emphasis on specific open-ended questions. A physical examination can offer several worrisome clinical signs leading to a suspicion of cancer. Armed with this information\, routine blood work and diagnostics able to be performed in-house or at the reference lab starts to round out this clinical picture and helps to form a differential list for specific cancers. This differential list can be used to guide further recommendations to clients\, including diagnostics (including those that can be performed at the clinic and those that are advanced)\, referral to specialty hospitals\, or empirical therapy. The session will then close with an overview of the current offerings of diagnostics on the market which may aid in early detection of cancer in companion animals. \nLearning Objectives:\n1. Recognize specific questions that can be easily integrated into current history-taking techniques to maximize information which may lead to a suspicion of cancer in the patient with specific and non-specific clinical signs.\n2. Recall portions of the full physical examination necessary to be included in every patient examination to detect potentially subtle changes which can indicate early formation of cancer.\n3. Understand strategies for reviewing routine blood work to gain additional insights into body systems and changes which may be a sign of cancer.\n4. Learn strategies to identify appropriate recommendations for clients based on these early signs\, with focus on additional diagnostics.\n5. Review currently offered diagnostics to aid in the early diagnosis of cancer in canine and feline patients. \nDisclaimer: This information is exclusively intended for registered veterinary and para-veterinary professionals.
URL:https://veterinary.co.za/event-main/idexx-early-cancer-diagnosis-dont-miss-the-warning-signs/
LOCATION:Webinar\, *Online\, South Africa
CATEGORIES:*Webinar
ATTACH;FMTTYPE=image/jpeg:https://veterinary.co.za/wp-content/uploads/2025/08/idexx-Early-Cancer-Diagnosis-Dont-Miss-the-Warning-Signs.jpg
END:VEVENT
BEGIN:VEVENT
DTSTART;TZID=Europe/Helsinki:20251204T190000
DTEND;TZID=Europe/Helsinki:20251204T203000
DTSTAMP:20260421T004829
CREATED:20250521T200058Z
LAST-MODIFIED:20260123T233951Z
UID:10000204-1764874800-1764880200@veterinary.co.za
SUMMARY:PURINA | Nourishing Bonds: How to Prevent and Address Food Aversions in Pets [WATCH RECORDING]
DESCRIPTION:Subject: Nourishing Bonds: How to Prevent and Address Food Aversions in Pets\nSpeakers: Multiple\nOrganizer: Purina\nLINK: WATCH RECORDING \nCreating Collaborative Care Through Nutrition Conversations: Webinar Series 4 of 4 \nFood aversion presents a significant challenge in managing veterinary patients with certain health conditions. In this informative webinar\, a veterinary nutritionist and a feeding behavior specialist will explore the causes of food aversion in dogs and cats. They will also provide practical strategies to prevent and manage this issue in veterinary patients.\nAdditionally\, the speakers will share effective communication tips that veterinary health care team members can use to help pet owners understand and address changes in their pets’ food preferences or intake.\nLearning objectives\nAfter this webinar\, attendees will better understand the following:\n▪ Normal eating behaviors and how food preferences develop in cats and dogs.\n▪ Potential causes of food aversion.\n▪ How the veterinary team can avoid common mistakes when introducing therapeutic diets\, feeding hospitalized patients\, and administering medications.\n▪ Approaches for managing food aversion once it has developed.\n▪ Effective communication by the veterinary health care team to help owners understand and address changes in their pets’ food preferences or intake. \nThis program is approved for 1 hour of continuing education credit in jurisdictions that recognize RACE approval. \nDisclaimer: This information is exclusively intended for registered veterinary and para-veterinary professionals.
URL:https://veterinary.co.za/event-main/nourishing-bonds-how-to-prevent-and-address-food-aversions-in-pets/
LOCATION:Webinar\, *Online\, South Africa
CATEGORIES:*Webinar,Watch Recordings
ATTACH;FMTTYPE=image/jpeg:https://veterinary.co.za/wp-content/uploads/2025/05/purina-creating-collaborative-care-series-1-scaled.jpg
END:VEVENT
BEGIN:VEVENT
DTSTART;TZID=Europe/Helsinki:20251204T190000
DTEND;TZID=Europe/Helsinki:20251204T203000
DTSTAMP:20260421T004829
CREATED:20251127T090500Z
LAST-MODIFIED:20251130T151104Z
UID:10000311-1764874800-1764880200@veterinary.co.za
SUMMARY:VET SKILLS TRAINING SOLUTIONS | Handle the heat: How to face conflict without burning bridges
DESCRIPTION:Subject: Handle the heat: How to face conflict without burning bridges\nSpeakers: Dr Marguerite Aitchison\nOrganizer: Vet Skills Training Solutions\nLINK: REGISTER HERE \nDescription\n1. Recognise early signs of conflict in your workplace.\n2. How to prepare yourself for difficult conversations.\n3. Use the SBI Model to address issues constructively.\n4. Lead recovery after tension to rebuild trust.\n5. Understand when and how mediation should step in. \nAttendance is free. \nDisclaimer: This information is exclusively intended for registered veterinary and para-veterinary professionals.
URL:https://veterinary.co.za/event-main/vet-skills-training-solutions-handle-the-heat/
LOCATION:Webinar\, *Online\, South Africa
CATEGORIES:*Webinar
ATTACH;FMTTYPE=image/jpeg:https://veterinary.co.za/wp-content/uploads/2025/11/vet-skills-training-solutions-handle-the-heat-scaled.jpg
END:VEVENT
BEGIN:VEVENT
DTSTART;TZID=Europe/Helsinki:20251204T200000
DTEND;TZID=Europe/Helsinki:20251204T210000
DTSTAMP:20260421T004829
CREATED:20251110T191809Z
LAST-MODIFIED:20251110T191809Z
UID:10000303-1764878400-1764882000@veterinary.co.za
SUMMARY:V-NET | Disease Report Discussion and Feedback [November]
DESCRIPTION:Subject: Disease Report Discussion and Feedback [November]\nSpeakers: Multiple\nOrganizer: V-Net\nLINK: ZOOM MEETING | REGISTER HERE
URL:https://veterinary.co.za/event-main/v-net-disease-report-discussion-and-feedback-november/
LOCATION:Webinar\, *Online\, South Africa
CATEGORIES:*Webinar
ATTACH;FMTTYPE=image/jpeg:https://veterinary.co.za/wp-content/uploads/2025/11/V-NET-MONTHLY-DISEASE-TRENDS-MEETING-NEW.jpg
END:VEVENT
BEGIN:VEVENT
DTSTART;TZID=Europe/Helsinki:20251209T213000
DTEND;TZID=Europe/Helsinki:20251209T223000
DTSTAMP:20260421T004829
CREATED:20251110T191047Z
LAST-MODIFIED:20260123T233847Z
UID:10000302-1765315800-1765319400@veterinary.co.za
SUMMARY:IDEXX | Uncovering Otitis: Clinical Cases and the Power of Ear Cytology [WATCH RECORDING]
DESCRIPTION:Subject: Uncovering Otitis: Clinical Cases and the Power of Ear Cytology\nSpeakers: Dr Stephen Shaw\nOrganizer: Idexx\nLINK: WATCH RECORDING \nIn house laboratory assessment of ear cytology is an essential skill to successfully treat ear disease and ensure the best antibiotic stewardship. Accurate initial assessment and subsequent monitoring of otitis is key.\nWe will discuss cytology findings and how looking beyond the microorganism directs therapy. \nPresenter:\nStephen Shaw BVetMed CertSAD DVD PhD PgCAP FHEA MRCVS\nClinical Associate Professor in Veterinary Dermatology\nUniversity of Nottingham \nSteve is an experienced dermatology specialist\, with clinical\, research and teaching expertise with a particular interest in atopic dermatitis and otitis. In 2000\, he completed his PhD on the genetics and immune responses in atopic dermatitis and has since been part of the ‘itchy dog’ project at the University of Nottingham where he has worked\, first as an associate and now a member of staff since 2013. Steve is the national dermatologist for Guide Dogs with whom he has worked for over 30 years. Communicating the complexity of dermatology to specialist\, primary care and student audiences is his great love. \nDisclaimer: This information is exclusively intended for registered veterinary and para-veterinary professionals.
URL:https://veterinary.co.za/event-main/idexx-uncovering-otitis-clinical-cases-and-the-power-of-ear-cytology/
LOCATION:Webinar\, *Online\, South Africa
CATEGORIES:*Webinar,Watch Recordings
ATTACH;FMTTYPE=image/jpeg:https://veterinary.co.za/wp-content/uploads/2025/11/idexx-uncovering-otitis.jpg
END:VEVENT
BEGIN:VEVENT
DTSTART;TZID=Europe/Helsinki:20251210T190000
DTEND;TZID=Europe/Helsinki:20251210T203000
DTSTAMP:20260421T004829
CREATED:20251127T083930Z
LAST-MODIFIED:20260123T233725Z
UID:10000310-1765393200-1765398600@veterinary.co.za
SUMMARY:VIRBAC | Alizin: The versatile solution for canine reproduction [WATCH RECORDING]
DESCRIPTION:Subject: Alizin: The versatile solution for canine reproduction\nSpeakers: Dr Kurt de Kramer\nOrganizer: Virbac\nLINK: REQUEST RECORDING – support@vetlink.co.za \nDr Kurt de Cramer Kurt De Cramer BVSc MMedVet (Gyn) PhD\, Veterinary practitioner\, Specialist in reproduction\, Extra ordinary lecturer (University of Pretoria\, South Africa) \nDr Kurt De Cramer fulfils the dual role of generalist and specialist in animal reproduction at the clinic. Attending to the most challenging cases is what keeps him charged. He has equal affinity for all members of the mammalian and avian species\, but prefers to leave the scaly ones to others. He regretfully admits that his profession is both his work and hobby. Dr De Cramer has an inquisitive mind which compels him to continue making a contribution to the science of healing animals and solving clinical problems. This dedication has led to a PhD thesis\, reference book on dog reproduction and numerous publications\, all of which is a unique achievement for those in full time practice. \nDisclaimer: This information is exclusively intended for registered veterinary and para-veterinary professionals.
URL:https://veterinary.co.za/event-main/virbac-alizin-the-versatile-solution-for-canine-reproduction/
LOCATION:Webinar\, *Online\, South Africa
CATEGORIES:*Webinar,Watch Recordings
ATTACH;FMTTYPE=image/jpeg:https://veterinary.co.za/wp-content/uploads/2025/11/virbac-alizin-webinar-scaled.jpg
END:VEVENT
BEGIN:VEVENT
DTSTART;TZID=Europe/Helsinki:20251210T210000
DTEND;TZID=Europe/Helsinki:20251210T223000
DTSTAMP:20260421T004829
CREATED:20251128T073329Z
LAST-MODIFIED:20260113T204618Z
UID:10000312-1765400400-1765405800@veterinary.co.za
SUMMARY:IDEXX | VetSpecialist Exchange Webinar: Cutaneous Manifestations of Systemic Disease [WATCH RECORDING]
DESCRIPTION:Subject: VetSpecialist Exchange Webinar: Cutaneous Manifestations of Systemic Disease\nSpeakers: Dr Christina Gentry\nOrganizer: Idexx\nLINK: WATCH RECORDING \nDescription:\nPatients with endocrine disorders including hypothyroidism\, hypercortisolism\, sex hormone dermatoses\, feline hyperthyroidism\, and feline acquired cutaneous fragility often present with skin and ear abnormalities that can be the first or only clinical clues. This webinar will review the hallmark cutaneous signs of common endocrinopathies\, practical management strategies\, and how concurrent allergies can complicate the picture. \nWe will also cover superficial necrolytic dermatitis (hepatocutaneous syndrome)\, emphasizing diagnosis and skin-focused treatment\, and conclude with key features of three immune-mediated diseases—acute febrile neutrophilic dermatitis\, eosinophilic dermatitis with edema\, and sterile panniculitis—to help distinguish them from similar infectious conditions. \nPresenter: Christina Gentry\, DVM\, DACVD\nDr. Gentry is a board-certified veterinary dermatologist and Clinical Assistant Professor at Texas A&M University. After earning her DVM from Texas A&M and completing her dermatology residency in Colorado\, she spent seven years in private practice in Denver and Houston\, focusing on feline allergic skin disease\, otitis\, and immune-mediated dermatologic conditions. Known for her energetic teaching style and passion for problem-solving in clinical dermatology\, Dr. Gentry returned to academia in 2023. She brings a practical and highly engaging approach to every lecture—making her sessions ones you won’t want to miss. \nDisclaimer: This information is exclusively intended for registered veterinary and para-veterinary professionals.
URL:https://veterinary.co.za/event-main/idexx-vetspecialist-exchange-webinar-cutaneous-manifestations-of-systemic-disease/
LOCATION:Webinar\, *Online\, South Africa
CATEGORIES:*Webinar,Watch Recordings
ATTACH;FMTTYPE=image/jpeg:https://veterinary.co.za/wp-content/uploads/2025/11/idexx-VetSpecialist-Exchange-Webinar-Cutaneous-Manifestations-of-Systemic-Disease.jpg
END:VEVENT
END:VCALENDAR