BEGIN:VCALENDAR
VERSION:2.0
PRODID:-//Veterinary.co.za - ECPv6.2.3.2//NONSGML v1.0//EN
CALSCALE:GREGORIAN
METHOD:PUBLISH
X-ORIGINAL-URL:https://veterinary.co.za
X-WR-CALDESC:Events for Veterinary.co.za
REFRESH-INTERVAL;VALUE=DURATION:PT1H
X-Robots-Tag:noindex
X-PUBLISHED-TTL:PT1H
BEGIN:VTIMEZONE
TZID:Europe/Helsinki
BEGIN:DAYLIGHT
TZOFFSETFROM:+0200
TZOFFSETTO:+0300
TZNAME:EEST
DTSTART:20250330T010000
END:DAYLIGHT
BEGIN:STANDARD
TZOFFSETFROM:+0300
TZOFFSETTO:+0200
TZNAME:EET
DTSTART:20251026T010000
END:STANDARD
END:VTIMEZONE
BEGIN:VEVENT
DTSTART;TZID=Europe/Helsinki:20251127T090000
DTEND;TZID=Europe/Helsinki:20251127T103000
DTSTAMP:20260421T043713
CREATED:20250601T182859Z
LAST-MODIFIED:20251127T080919Z
UID:10000228-1764234000-1764239400@veterinary.co.za
SUMMARY:PURINA | Nutritional Approaches to Lower Urinary Disease in Cats
DESCRIPTION:Subject: Nutritional Approaches to Lower Urinary Disease in Cats\nSpeakers: Dr Mary Thompson\nOrganizer: Purina\nLINK: REGISTER HERE \nPresented by: Dr. Mary Thompson BVSc(Hons) PhD DACVIM MANZCVS FHEA \nThis presentation will cover the most common lower urinary tract disorders in cats including idiopathic cystitis\, struvite and calcium urolithiasis. The incidence and underlying pathophysiology of each will be presented. Common nutritional approaches for acute and long-term management will be discussed as well as likelihood of recurrence. How to communicate to cat owners about diagnosis and management will also be discussed. \nLearning Objectives:\n1. Describe the most common lower urinary tract disorders in cats including current thinking of their pathophysiology\n2. Understand how nutrition can be best used to manage these conditions\n3. Develop strategies about how to communicate the importance of nutrition in the management of these disorders
URL:https://veterinary.co.za/event-main/nutritional-approaches-to-lower-urinary-disease-in-cats/
LOCATION:Webinar\, *Online\, South Africa
CATEGORIES:*Webinar
ATTACH;FMTTYPE=image/jpeg:https://veterinary.co.za/wp-content/uploads/2025/06/purina-nutritional-approaches-to-lower-urinary-tract-disease-in-cats-scaled.jpg
END:VEVENT
END:VCALENDAR