BEGIN:VCALENDAR
VERSION:2.0
PRODID:-//Veterinary.co.za - ECPv6.2.3.2//NONSGML v1.0//EN
CALSCALE:GREGORIAN
METHOD:PUBLISH
X-ORIGINAL-URL:https://veterinary.co.za
X-WR-CALDESC:Events for Veterinary.co.za
REFRESH-INTERVAL;VALUE=DURATION:PT1H
X-Robots-Tag:noindex
X-PUBLISHED-TTL:PT1H
BEGIN:VTIMEZONE
TZID:Europe/Helsinki
BEGIN:DAYLIGHT
TZOFFSETFROM:+0200
TZOFFSETTO:+0300
TZNAME:EEST
DTSTART:20250330T010000
END:DAYLIGHT
BEGIN:STANDARD
TZOFFSETFROM:+0300
TZOFFSETTO:+0200
TZNAME:EET
DTSTART:20251026T010000
END:STANDARD
END:VTIMEZONE
BEGIN:VEVENT
DTSTART;TZID=Europe/Helsinki:20251126T190000
DTEND;TZID=Europe/Helsinki:20251126T203000
DTSTAMP:20260421T043711
CREATED:20251111T203049Z
LAST-MODIFIED:20251111T203353Z
UID:10000304-1764183600-1764189000@veterinary.co.za
SUMMARY:BRYANSTON VETERINARY HOSPITAL | The Coughing Dog with a Murmur: What to Do Next
DESCRIPTION:Subject: The Coughing Dog with a Murmur: What to Do Next\nSpeaker: Dr Yulishia Devnath\nOrganizer: Boehringer Ingelheim\nVenue: Bryanston Veterinary Hospital & Specialist Centre\, Bryanston Gauteng\nEMAIL: robin@bryanstonvet.co.za \nCPD Evening at Bryanston Veterinary Hospital\nJoin us for an insightful talk with Dr. Yulishia Devnath on: The Coughing Dog with a Murmur: What to Do Next\nThis event is sponsored by Boehringer Ingelheim\, with catering provided.\nCPD accreditation will be applied for.\nSpace is limited – please RSVP to robin@bryanstonvet.co.za with your SAVC number and dietary requirements.\nOpen to registered veterinary professionals only.
URL:https://veterinary.co.za/event-main/bryanston-veterinary-hospital-the-coughing-dog-with-a-murmur-what-to-do-next/
LOCATION:Bryanston Veterinary Hospital\, Johannesburg\, Gauteng\, 6 Ballyclare Drive\, cnr William Nicol Drive Bryanston\, Johannesburg\, Gauteng\, 2191\, South Africa
CATEGORIES:In-Person Event
ATTACH;FMTTYPE=image/jpeg:https://veterinary.co.za/wp-content/uploads/2025/11/bryanston-vet-coughing-dog-scaled.jpg
END:VEVENT
BEGIN:VEVENT
DTSTART;TZID=Europe/Helsinki:20251126T203000
DTEND;TZID=Europe/Helsinki:20251126T213000
DTSTAMP:20260421T043711
CREATED:20251118T205659Z
LAST-MODIFIED:20251128T070936Z
UID:10000306-1764189000-1764192600@veterinary.co.za
SUMMARY:IDEXX | Thinking of Investing in an IDEXX inVue Dx (or maybe you already have)? Now what? [WATCH RECORDING]
DESCRIPTION:Subject: Thinking of Investing in an IDEXX inVue Dx (or maybe you already have)? Now what?\nSpeakers: Dr Richard Sanderson\nOrganizer: Idexx\nLINK: WATCH RECORDING \nBe part of a candid webinar exploring the real-world pros and cons of adopting inVue DX in veterinary practice. Hear a practicing veterinarian share their journey- from initial doubts to implementation- covering medical benefits\, business considerations\, and practical steps for integrating inVue DX into a busy clinic. This is your chance to get honest insights and ask questions before making your own decision. \nPresenter: Dr Richard Sanderson BVSc GDL CertAVP(SAP) certNCS(VPM) MRCVS\nRichard is a highly qualified veterinarian and practice founder with advanced expertise in small animal care and surgery. He holds RCVS Advanced Practitioner status\, multiple certifications\, and plays an active role in mentoring\, clinical coaching\, and animal welfare initiatives.
URL:https://veterinary.co.za/event-main/idexx-thinking-of-investing-in-an-idexx-invue-dx-or-maybe-you-already-have-now-what/
LOCATION:Webinar\, *Online\, South Africa
CATEGORIES:*Webinar,Watch Recordings
ATTACH;FMTTYPE=image/jpeg:https://veterinary.co.za/wp-content/uploads/2025/11/idexx-thinking-of-investing-in-an-invue.jpg
END:VEVENT
END:VCALENDAR