BEGIN:VCALENDAR
VERSION:2.0
PRODID:-//Veterinary.co.za - ECPv6.2.3.2//NONSGML v1.0//EN
CALSCALE:GREGORIAN
METHOD:PUBLISH
X-ORIGINAL-URL:https://veterinary.co.za
X-WR-CALDESC:Events for Veterinary.co.za
REFRESH-INTERVAL;VALUE=DURATION:PT1H
X-Robots-Tag:noindex
X-PUBLISHED-TTL:PT1H
BEGIN:VTIMEZONE
TZID:Europe/Helsinki
BEGIN:DAYLIGHT
TZOFFSETFROM:+0200
TZOFFSETTO:+0300
TZNAME:EEST
DTSTART:20250330T010000
END:DAYLIGHT
BEGIN:STANDARD
TZOFFSETFROM:+0300
TZOFFSETTO:+0200
TZNAME:EET
DTSTART:20251026T010000
END:STANDARD
END:VTIMEZONE
BEGIN:VEVENT
DTSTART;TZID=Europe/Helsinki:20251110T200000
DTEND;TZID=Europe/Helsinki:20251110T213000
DTSTAMP:20260421T043715
CREATED:20251028T105135Z
LAST-MODIFIED:20251113T191047Z
UID:10000295-1762804800-1762810200@veterinary.co.za
SUMMARY:SAEVA | Webinar #7: Equine Passports: Certification\, Identification & Vaccination [WATCH RECORDING]
DESCRIPTION:Subject: SAEVA Webinar #7: Equine Passports: Certification\, Identification & Vaccination [WATCH RECORDING]\nSpeaker: Dr Sean Miller\nOrganizer: SAEVA\nLINK: WATCH RECORDING \nWe are pleased to invite you to our upcoming webinar. A service to members of the SAEVA. (R200 for non members) \nWhat will be discussed?\nA guide to completing a equine passport\, correct vaccination and identification guidelines and mistakes to avoid. \nDr Sean Miller is an equine veterinarian with extensive international sport horse experience\, serving as a Level 3 FEI Official Veterinarian across multiple disciplines and South African Team Vet at the 2018 World Equestrian Games. Currently Chairman of the South African Equine Veterinary Association\, Sean has a strong commitment to advancing equine welfare and performance.
URL:https://veterinary.co.za/event-main/saeva-webinar-7-equine-passports-certification-identification-vaccination/
LOCATION:Webinar\, *Online\, South Africa
CATEGORIES:*Webinar,Watch Recordings
ATTACH;FMTTYPE=image/jpeg:https://veterinary.co.za/wp-content/uploads/2025/10/saeva-webinar-7-scaled.jpg
END:VEVENT
END:VCALENDAR