BEGIN:VCALENDAR
VERSION:2.0
PRODID:-//Veterinary.co.za - ECPv6.2.3.2//NONSGML v1.0//EN
CALSCALE:GREGORIAN
METHOD:PUBLISH
X-ORIGINAL-URL:https://veterinary.co.za
X-WR-CALDESC:Events for Veterinary.co.za
REFRESH-INTERVAL;VALUE=DURATION:PT1H
X-Robots-Tag:noindex
X-PUBLISHED-TTL:PT1H
BEGIN:VTIMEZONE
TZID:Europe/Helsinki
BEGIN:DAYLIGHT
TZOFFSETFROM:+0200
TZOFFSETTO:+0300
TZNAME:EEST
DTSTART:20250330T010000
END:DAYLIGHT
BEGIN:STANDARD
TZOFFSETFROM:+0300
TZOFFSETTO:+0200
TZNAME:EET
DTSTART:20251026T010000
END:STANDARD
END:VTIMEZONE
BEGIN:VEVENT
DTSTART;TZID=Europe/Helsinki:20251028T090000
DTEND;TZID=Europe/Helsinki:20251029T180000
DTSTAMP:20260421T043650
CREATED:20251009T042230Z
LAST-MODIFIED:20251027T215841Z
UID:10000287-1761642000-1761760800@veterinary.co.za
SUMMARY:HILL'S | Hill's Global Symposium 2025
DESCRIPTION:Subject: Hill’s Global Symposium 2025\nSpeakers: Multiple\nOrganizer: Hill’s Pet Nutrition\nLINK: REGISTER HERE \nJoin our free global virtual event to update your knowledge of the canine and feline ageing process\, and how to support both patients and pet parents through this phase of life. \nGet ready for an inspiring two days of learning and connection. Registration is now open for the Hill’s Global Symposium\, a premier virtual event taking place on October 28-29\, 2025.\nThis year’s theme is Strong Science\, Long Lives\, where we will dive deep into the science that helps promote healthy longevity for pets.\nJoin our sessions covering:\n> Cutting-edge Cognitive Care\n> Advanced Solutions for Mobility\n> Holistic Approaches to Comprehensive Senior Care\nElevate your knowledge\, connect with a global community of peers\, and bring the latest evidence-based science back to your practice.
URL:https://veterinary.co.za/event-main/hills-hills-global-symposium-2025/
LOCATION:Webinar\, *Online\, South Africa
CATEGORIES:*Webinar
ATTACH;FMTTYPE=image/jpeg:https://veterinary.co.za/wp-content/uploads/2025/10/hills-global-symposium-2025-scaled.jpg
END:VEVENT
BEGIN:VEVENT
DTSTART;TZID=Europe/Helsinki:20251028T183000
DTEND;TZID=Europe/Helsinki:20251028T203000
DTSTAMP:20260421T043650
CREATED:20251023T233112Z
LAST-MODIFIED:20251023T234747Z
UID:10000293-1761676200-1761683400@veterinary.co.za
SUMMARY:LOMAEN MEDICAL | Advancing Imaging Diagnostics
DESCRIPTION:Subject: Advancing Imaging Diagnostics\nSpeaker: Dr Martin De Scally and Dr Sara Boyd\nOrganizer: Lomaen Medical\nVenue: Hillcrest\, KZN\nEMAIL: kay@lomaen.co.za / 0824119522 – RSVP by 24 October 2025 \nCPD: Advancing Imaging Diagnostics \nFresh from attending 2 International Master MRI events\, it’s time to share the knowledge and cases that were previously considered untreatable. Join us for dinner and a truly eye opening presentation. \nPresented by Dr Martin De Scally and Dr Sara Boyd
URL:https://veterinary.co.za/event-main/lomaen-medical-advancing-imaging-diagnostics/
LOCATION:The Round House\, Hillcrest\, KwaZulu-Natal\, The Round House\, La Pizza\, 47 Shongweni Road\, Plantations Estate\, Hillcrest\, KwaZulu-Natal\, 3610\, South Africa
CATEGORIES:In-Person Event
ATTACH;FMTTYPE=image/jpeg:https://veterinary.co.za/wp-content/uploads/2025/10/lomaen-mri-hilton-vet-01-scaled.jpg
END:VEVENT
END:VCALENDAR