BEGIN:VCALENDAR
VERSION:2.0
PRODID:-//Veterinary.co.za - ECPv6.2.3.2//NONSGML v1.0//EN
CALSCALE:GREGORIAN
METHOD:PUBLISH
X-ORIGINAL-URL:https://veterinary.co.za
X-WR-CALDESC:Events for Veterinary.co.za
REFRESH-INTERVAL;VALUE=DURATION:PT1H
X-Robots-Tag:noindex
X-PUBLISHED-TTL:PT1H
BEGIN:VTIMEZONE
TZID:Europe/Helsinki
BEGIN:DAYLIGHT
TZOFFSETFROM:+0200
TZOFFSETTO:+0300
TZNAME:EEST
DTSTART:20250330T010000
END:DAYLIGHT
BEGIN:STANDARD
TZOFFSETFROM:+0300
TZOFFSETTO:+0200
TZNAME:EET
DTSTART:20251026T010000
END:STANDARD
END:VTIMEZONE
BEGIN:VEVENT
DTSTART;TZID=Europe/Helsinki:20251022T080000
DTEND;TZID=Europe/Helsinki:20251024T170000
DTSTAMP:20260421T062150
CREATED:20250929T225214Z
LAST-MODIFIED:20251023T024840Z
UID:10000278-1761120000-1761325200@veterinary.co.za
SUMMARY:ENTERPRISES UP | The Multidisciplinary Approach to the Cardiopulmonary Compromised Patient (22-24 October)
DESCRIPTION:Subject: The Multidisciplinary Approach to the Cardiopulmonary Compromised Patient\nSpeakers: Multiple\nOrganizer: Enterprises University of Pretoria\nLINK: REGISTER HERE \nAre you fully equipped to manage your next high-risk cardiopulmonary case? For many veterinarians\, these patients remain some of the most daunting… the dog with severe mitral valve disease needing surgery\, the cat with hypertrophic cardiomyopathy requiring anesthesia for diagnostics\, or the respiratory compromised patient that doesn’t respond as expected to treatment. Too often\, practitioners feel isolated in these moments\, without access to the multidisciplinary support that specialists take for granted. \nThis 2.5-day CPD course is designed to close that gap. Delivered by a team of specialists in small animal internal medicine\, anesthesiology\, surgery\, diagnostic imaging\, and clinical pathology\, the course offers practical\, evidence-based strategies that you can take straight back into your practice. \nThrough interactive lectures\, real case discussions\, and collaborative sessions\, you will learn how to: \nImprove diagnostic accuracy in complex cardiopulmonary patients \nMake confident anesthetic and treatment decisions in high-risk cases \nIntegrate multidisciplinary insights to optimise outcomes \nBy the end\, you’ll walk away with a sharper clinical edge\, renewed confidence\, and tools to transform the way you approach cardiopulmonary compromise in your patients
URL:https://veterinary.co.za/event-main/enterprises-up-the-multidisciplinary-approach-to-the-cardiopulmonary-compromised-patient/
LOCATION:Onderstepoort\, Pretoria\, Gauteng\, Old Soutpan Road (M35)\, Onderstepoort\, Pretoria\, Gauteng\, 0110\, South Africa
CATEGORIES:*Webinar
ATTACH;FMTTYPE=image/jpeg:https://veterinary.co.za/wp-content/uploads/2025/09/enterprises-up-mutidisciplinary-approach.jpg
END:VEVENT
END:VCALENDAR