BEGIN:VCALENDAR
VERSION:2.0
PRODID:-//Veterinary.co.za - ECPv6.2.3.2//NONSGML v1.0//EN
CALSCALE:GREGORIAN
METHOD:PUBLISH
X-ORIGINAL-URL:https://veterinary.co.za
X-WR-CALDESC:Events for Veterinary.co.za
REFRESH-INTERVAL;VALUE=DURATION:PT1H
X-Robots-Tag:noindex
X-PUBLISHED-TTL:PT1H
BEGIN:VTIMEZONE
TZID:Europe/Helsinki
BEGIN:DAYLIGHT
TZOFFSETFROM:+0200
TZOFFSETTO:+0300
TZNAME:EEST
DTSTART:20250330T010000
END:DAYLIGHT
BEGIN:STANDARD
TZOFFSETFROM:+0300
TZOFFSETTO:+0200
TZNAME:EET
DTSTART:20251026T010000
END:STANDARD
END:VTIMEZONE
BEGIN:VEVENT
DTSTART;TZID=Europe/Helsinki:20251017T083000
DTEND;TZID=Europe/Helsinki:20251018T170000
DTSTAMP:20260421T062157
CREATED:20250715T220104Z
LAST-MODIFIED:20250806T194021Z
UID:10000248-1760689800-1760806800@veterinary.co.za
SUMMARY:SAVA | Free State & Northern Cape Branch Congress 2025
DESCRIPTION:Subject: Free State & Northern Cape Branch Congress 2025\nSpeakers: Multiple\nOrganizer: SAVA\nLINK: REGISTER HERE \nContact conference@savetcon.co.za for more information
URL:https://veterinary.co.za/event-main/sava-free-state-northern-cape-branch-congress-2025/
LOCATION:Goose Hill Guest Farm\, Bloemfontein\, Free State\, Farm Goose Hill\, Bleomfontein\, Free State\, 9301\, South Africa
CATEGORIES:In-Person Event
ATTACH;FMTTYPE=image/jpeg:https://veterinary.co.za/wp-content/uploads/2025/07/SAVA-free-state-northern-cape-congress-2025.jpg
END:VEVENT
END:VCALENDAR