BEGIN:VCALENDAR
VERSION:2.0
PRODID:-//Veterinary.co.za - ECPv6.2.3.2//NONSGML v1.0//EN
CALSCALE:GREGORIAN
METHOD:PUBLISH
X-ORIGINAL-URL:https://veterinary.co.za
X-WR-CALDESC:Events for Veterinary.co.za
REFRESH-INTERVAL;VALUE=DURATION:PT1H
X-Robots-Tag:noindex
X-PUBLISHED-TTL:PT1H
BEGIN:VTIMEZONE
TZID:Europe/Helsinki
BEGIN:DAYLIGHT
TZOFFSETFROM:+0200
TZOFFSETTO:+0300
TZNAME:EEST
DTSTART:20250330T010000
END:DAYLIGHT
BEGIN:STANDARD
TZOFFSETFROM:+0300
TZOFFSETTO:+0200
TZNAME:EET
DTSTART:20251026T010000
END:STANDARD
END:VTIMEZONE
BEGIN:VEVENT
DTSTART;TZID=Europe/Helsinki:20251014T100000
DTEND;TZID=Europe/Helsinki:20251014T120000
DTSTAMP:20260421T062932
CREATED:20251009T030616Z
LAST-MODIFIED:20251009T030616Z
UID:10000284-1760436000-1760443200@veterinary.co.za
SUMMARY:WORLD RABIES DAY 2025 | Rabies Webinar
DESCRIPTION:Subject: World Rabies Day 2025 – A Review on Rabies\nSpeakers: Multiple\nOrganizer: Department of Agriculture\nLINK: REGISTER HERE \nMain Objectives:\n• To provide an overview of rabies in South Africa from a One Health perspective\n• To control rabies in animals in South Africa\n• To refresh the clinical management focusing on wound categorization and appropriate management\n• The role of Health Promotion and Communication on public awareness regarding Risk Communication and Community Engagement (RCCE)\n• To manage animal bite cases objectively and follow the “Integrated Bite Case Management” (IBCM) approach
URL:https://veterinary.co.za/event-main/world-rabies-day-2025-rabies-webinar/
LOCATION:Webinar\, *Online\, South Africa
CATEGORIES:*Webinar
ATTACH;FMTTYPE=image/jpeg:https://veterinary.co.za/wp-content/uploads/2025/10/world-rabies-day-2025.jpg
END:VEVENT
END:VCALENDAR