BEGIN:VCALENDAR
VERSION:2.0
PRODID:-//Veterinary.co.za - ECPv6.2.3.2//NONSGML v1.0//EN
CALSCALE:GREGORIAN
METHOD:PUBLISH
X-ORIGINAL-URL:https://veterinary.co.za
X-WR-CALDESC:Events for Veterinary.co.za
REFRESH-INTERVAL;VALUE=DURATION:PT1H
X-Robots-Tag:noindex
X-PUBLISHED-TTL:PT1H
BEGIN:VTIMEZONE
TZID:Europe/Helsinki
BEGIN:DAYLIGHT
TZOFFSETFROM:+0200
TZOFFSETTO:+0300
TZNAME:EEST
DTSTART:20250330T010000
END:DAYLIGHT
BEGIN:STANDARD
TZOFFSETFROM:+0300
TZOFFSETTO:+0200
TZNAME:EET
DTSTART:20251026T010000
END:STANDARD
END:VTIMEZONE
BEGIN:VEVENT
DTSTART;TZID=Europe/Helsinki:20251009T193000
DTEND;TZID=Europe/Helsinki:20251009T210000
DTSTAMP:20260421T063051
CREATED:20251001T211720Z
LAST-MODIFIED:20251013T214241Z
UID:10000281-1760038200-1760043600@veterinary.co.za
SUMMARY:HILL'S | Vet Webinar #8: Feline Triaditis - Making Sense of a Tricky Trio [WATCH RECORDING]
DESCRIPTION:Subject: Hill’s Vet Webinar #8: Feline Triaditis – Making Sense of a Tricky Trio\nSpeaker: Dr Louis Loubser\nOrganizer: Hill’s Pet Nutrition\nLINK:  WATCH RECORDING \nThis session will explore the complex syndrome of feline triaditis\, highlighting the interplay between cholangitis\, pancreatitis\, and inflammatory bowel disease. We will discuss current understanding of pathophysiology\, key diagnostic approaches\, and practical treatment strategies.
URL:https://veterinary.co.za/event-main/hills-vet-webinar-8-feline-triaditis-making-sense-of-a-tricky-trio/
LOCATION:Webinar\, *Online\, South Africa
CATEGORIES:*Webinar,Watch Recordings
ATTACH;FMTTYPE=image/jpeg:https://veterinary.co.za/wp-content/uploads/2025/05/hills-vet-enrichment-webinar-series-3-1-scaled.jpg
END:VEVENT
END:VCALENDAR