BEGIN:VCALENDAR
VERSION:2.0
PRODID:-//Veterinary.co.za - ECPv6.2.3.2//NONSGML v1.0//EN
CALSCALE:GREGORIAN
METHOD:PUBLISH
X-ORIGINAL-URL:https://veterinary.co.za
X-WR-CALDESC:Events for Veterinary.co.za
REFRESH-INTERVAL;VALUE=DURATION:PT1H
X-Robots-Tag:noindex
X-PUBLISHED-TTL:PT1H
BEGIN:VTIMEZONE
TZID:Europe/Helsinki
BEGIN:DAYLIGHT
TZOFFSETFROM:+0200
TZOFFSETTO:+0300
TZNAME:EEST
DTSTART:20250330T010000
END:DAYLIGHT
BEGIN:STANDARD
TZOFFSETFROM:+0300
TZOFFSETTO:+0200
TZNAME:EET
DTSTART:20251026T010000
END:STANDARD
END:VTIMEZONE
BEGIN:VEVENT
DTSTART;TZID=Europe/Helsinki:20251007T193000
DTEND;TZID=Europe/Helsinki:20251007T210000
DTSTAMP:20260421T062140
CREATED:20250922T213349Z
LAST-MODIFIED:20251009T050452Z
UID:10000275-1759865400-1759870800@veterinary.co.za
SUMMARY:IDEXX | Making Optimal Use of Serum Cortisol Data [WATCH RECORDING]
DESCRIPTION:Subject: Making Optimal Use of Serum Cortisol Data\nSpeaker : Prof. Fred Reyers (BVSc\, MMedVet(KLD)\, MRCV)\nOrganizer: Idexx\nLINK: WATCH RECORDING \nJoin Professor Fred Reyers for this in depth lecture on making optimal use of serum cortisol data. After this webinar\, you will : \nAppreciate the fact that serum cortisol levels fluctuate too severely for a single basal cortisol to provide useful diagnostic information in HAC.\nUnderstand why the urine Cortisol/Creatinine ratio is not really a useful parameter to overcome the problem of serum cortisol variability\, despite the “advice” from some sources.\nUnderstand the rationale behind the Low Dose Dexamethasone Suppression test (LDDST) for diagnosing Cushing’s Syndrome (HAC) – and its limitations.\nUnderstand the rationale behind the ACTH-Stimulation Test\, for diagnosing HAC – and its limitations.\nUnderstand the rationale behind the Trilostane response test.\nUnderstand the rationale behind using the ACTH-stim test to monitor HAC Rx\nAppreciate the potential usefulness of using a basal Cortisol to monitor HAC Rx\nUnderstand the usefulness for a basal cortisol in ruling Addison’s disease in/out\nUnderstand why the LDDST cannot be used to diagnose Addison’s Disease. \nPresenter: Prof. Fred Reyers\nVeterinary Pathologist (Clinical Pathology)\nPrivate – Retired pathologist
URL:https://veterinary.co.za/event-main/idexx-making-optimal-use-of-serum-cortisol-data/
LOCATION:Webinar\, *Online\, South Africa
CATEGORIES:*Webinar,Watch Recordings
ATTACH;FMTTYPE=image/jpeg:https://veterinary.co.za/wp-content/uploads/2025/09/idexx-making-optimal-use-of-serum-cortisol.jpg
END:VEVENT
END:VCALENDAR