BEGIN:VCALENDAR
VERSION:2.0
PRODID:-//Veterinary.co.za - ECPv6.2.3.2//NONSGML v1.0//EN
CALSCALE:GREGORIAN
METHOD:PUBLISH
X-ORIGINAL-URL:https://veterinary.co.za
X-WR-CALDESC:Events for Veterinary.co.za
REFRESH-INTERVAL;VALUE=DURATION:PT1H
X-Robots-Tag:noindex
X-PUBLISHED-TTL:PT1H
BEGIN:VTIMEZONE
TZID:Europe/Helsinki
BEGIN:DAYLIGHT
TZOFFSETFROM:+0200
TZOFFSETTO:+0300
TZNAME:EEST
DTSTART:20250330T010000
END:DAYLIGHT
BEGIN:STANDARD
TZOFFSETFROM:+0300
TZOFFSETTO:+0200
TZNAME:EET
DTSTART:20251026T010000
END:STANDARD
END:VTIMEZONE
BEGIN:VEVENT
DTSTART;TZID=Europe/Helsinki:20251004T130000
DTEND;TZID=Europe/Helsinki:20251004T160000
DTSTAMP:20260421T062810
CREATED:20250830T232033Z
LAST-MODIFIED:20250830T232033Z
UID:10000269-1759582800-1759593600@veterinary.co.za
SUMMARY:LOMAEN MEDICAL | Mastering Ultrasound
DESCRIPTION:Subject: Point-of-care ultrasound (POCUS) CPD courses\nSpeaker: Prof. Johan Schoemann\nOrganizer: Lomaen Medical\nLink: REGISTER HERE \n\n\n\n\nPoint-of-Care Ultrasound for the small animal practitioner\n3 hour practical course\n(Max. 20 delegates)\nCost: R3500 \nPoint-of-Care Ultrasound techniques are essential skills for the small animal practitioner wish to make quick\, “bedside” assessments of critical patients. POCUS topics and principles will be covered during an hour-long demonstration on a live dog. This will be followed by a 2 hour session during which the learning will be re-enforced\, with all participants practicing the demonstrated techniques and watching colleagues practice the techniques on live dogs.
URL:https://veterinary.co.za/event-main/lomaen-medical-mastering-ultrasound-2/
LOCATION:West Acres Animal Hospital\, Mobombela\, Mpumalanga\, West Acres Animal Hospital\, Mbombela\, Mpumalanga\, 1211\, South Africa
CATEGORIES:In-Person Event
ATTACH;FMTTYPE=image/jpeg:https://veterinary.co.za/wp-content/uploads/2025/08/mastering-ultrasound-mbombela.jpg
END:VEVENT
END:VCALENDAR