BEGIN:VCALENDAR
VERSION:2.0
PRODID:-//Veterinary.co.za - ECPv6.2.3.2//NONSGML v1.0//EN
CALSCALE:GREGORIAN
METHOD:PUBLISH
X-ORIGINAL-URL:https://veterinary.co.za
X-WR-CALDESC:Events for Veterinary.co.za
REFRESH-INTERVAL;VALUE=DURATION:PT1H
X-Robots-Tag:noindex
X-PUBLISHED-TTL:PT1H
BEGIN:VTIMEZONE
TZID:Europe/Helsinki
BEGIN:DAYLIGHT
TZOFFSETFROM:+0200
TZOFFSETTO:+0300
TZNAME:EEST
DTSTART:20250330T010000
END:DAYLIGHT
BEGIN:STANDARD
TZOFFSETFROM:+0300
TZOFFSETTO:+0200
TZNAME:EET
DTSTART:20251026T010000
END:STANDARD
END:VTIMEZONE
BEGIN:VEVENT
DTSTART;TZID=Europe/Helsinki:20251001T190000
DTEND;TZID=Europe/Helsinki:20251001T203000
DTSTAMP:20260421T062153
CREATED:20250601T123356Z
LAST-MODIFIED:20251001T191701Z
UID:10000224-1759345200-1759350600@veterinary.co.za
SUMMARY:SAVA | JHB Branch: Elbow Dysplasia - A practical approach to screening\, early diagnosis and treatment options
DESCRIPTION:Subject: Elbow Dysplasia – A practical approach to screening\, early diagnosis and treatment options\nSpeaker: Dr Greg Irvine Smith\nSponsor: Royal Canin\nLINK: REGISTER HERE
URL:https://veterinary.co.za/event-main/sava-jhb-branch-topic-to-be-confirmed-4/
LOCATION:Johannesburg Country Club\, Woodmead\, Gauteng\, Cnr Woodland Drive & Lincoln Street\, Woodmead\, Sandton\, 2128\, Johannesburg\, Gauteng\, South Africa
CATEGORIES:In-Person Event
ATTACH;FMTTYPE=image/jpeg:https://veterinary.co.za/wp-content/uploads/2025/03/SAVA-JHB-Branch-2025-scaled.jpg
END:VEVENT
END:VCALENDAR