BEGIN:VCALENDAR
VERSION:2.0
PRODID:-//Veterinary.co.za - ECPv6.2.3.2//NONSGML v1.0//EN
CALSCALE:GREGORIAN
METHOD:PUBLISH
X-ORIGINAL-URL:https://veterinary.co.za
X-WR-CALDESC:Events for Veterinary.co.za
REFRESH-INTERVAL;VALUE=DURATION:PT1H
X-Robots-Tag:noindex
X-PUBLISHED-TTL:PT1H
BEGIN:VTIMEZONE
TZID:Europe/Helsinki
BEGIN:DAYLIGHT
TZOFFSETFROM:+0200
TZOFFSETTO:+0300
TZNAME:EEST
DTSTART:20250330T010000
END:DAYLIGHT
BEGIN:STANDARD
TZOFFSETFROM:+0300
TZOFFSETTO:+0200
TZNAME:EET
DTSTART:20251026T010000
END:STANDARD
END:VTIMEZONE
BEGIN:VEVENT
DTSTART;TZID=Europe/Helsinki:20250925T080000
DTEND;TZID=Europe/Helsinki:20250927T170000
DTSTAMP:20260421T081208
CREATED:20250715T205635Z
LAST-MODIFIED:20250715T205635Z
UID:10000246-1758787200-1758992400@veterinary.co.za
SUMMARY:WSAVA | Congress 2025 - Rio de Janeiro\, Brazil
DESCRIPTION:Subject: WSAVA Congress 2025 – Rio de Janeiro\, Brazil\nSpeakers: Multiple\nOrganizer: WSAVA\nLINK: REGISTER HERE \nJoin The Global Veterinary Community for WSAVA 2025\nWe’re excited to invite you to join us at the 50th World Small Animal Veterinary Association Congress (WSAVA 2025)\, which will take place from 25-27 September 2025\, in Rio de Janeiro\, Brazil. \nGet ready for a jam-packed Congress\, that will cover all the latest updates in veterinary medicines and offer our global veterinary community a chance to meet\, share ideas and perspectives\, and have a little fun..! \nTravel to Rio de Janeiro with us\, a city full of human spirit and natural splendor\, vibrant and enchanting culture that is framed by beautiful hilly landscapes. You will discover a city of culture\, natural beauty\, beaches\, and unique hospitality! \nEarly Registration Deadline: 2 September 2025
URL:https://veterinary.co.za/event-main/wsava-congress-2025-rio-de-janeiro-brazil/
LOCATION:Webinar\, *Online\, South Africa
CATEGORIES:*Webinar
ATTACH;FMTTYPE=image/jpeg:https://veterinary.co.za/wp-content/uploads/2025/07/wsava-congress-2025-scaled.jpg
END:VEVENT
END:VCALENDAR