BEGIN:VCALENDAR
VERSION:2.0
PRODID:-//Veterinary.co.za - ECPv6.2.3.2//NONSGML v1.0//EN
CALSCALE:GREGORIAN
METHOD:PUBLISH
X-ORIGINAL-URL:https://veterinary.co.za
X-WR-CALDESC:Events for Veterinary.co.za
REFRESH-INTERVAL;VALUE=DURATION:PT1H
X-Robots-Tag:noindex
X-PUBLISHED-TTL:PT1H
BEGIN:VTIMEZONE
TZID:Europe/Helsinki
BEGIN:DAYLIGHT
TZOFFSETFROM:+0200
TZOFFSETTO:+0300
TZNAME:EEST
DTSTART:20250330T010000
END:DAYLIGHT
BEGIN:STANDARD
TZOFFSETFROM:+0300
TZOFFSETTO:+0200
TZNAME:EET
DTSTART:20251026T010000
END:STANDARD
END:VTIMEZONE
BEGIN:VEVENT
DTSTART;TZID=Europe/Helsinki:20250619T110000
DTEND;TZID=Europe/Helsinki:20250620T123000
DTSTAMP:20260421T131557
CREATED:20250516T213928Z
LAST-MODIFIED:20250601T192640Z
UID:10000197-1750330800-1750422600@veterinary.co.za
SUMMARY:PURINA | Nutritional Management of Canine Epilepsy
DESCRIPTION:Subject: Nutritional Management of Canine Epilepsy\nSpeakers: Dr. Daisuke Hasegawa\nOrganizer: Purina\nLINK: REGISTER HERE \nPresented by: Dr. Daisuke Hasegawa DVM\, PhD\, DAiCVIM (Neurology) \nThis presentation will cover the common causes of epilepsy in dogs\, typical approaches to diagnosis\, pharmaceutical treatment and use of nutrition as adjunctive therapy. Long term management of dogs that are responsive to therapy as well as refractive to treatment will be discussed. Specifically\, the metabolism of medium-chain triglycerides will be covered and how they have been shown to reduce the frequency of seizures in affected dogs. \nLearning Objectives: \n1. Understand the causes of canine epilepsy\n2. Be able to diagnose and determine the appropriate pharmaceutical treatments for canine epilepsy\n3. Understand the metabolism of medium chain triglycerides and how they can contribute to the management of canine epilepsy.
URL:https://veterinary.co.za/event-main/dont-forget-the-diet-incorporating-diet-into-daily-dermatology-case-management/
LOCATION:Webinar\, *Online\, South Africa
CATEGORIES:*Webinar
ATTACH;FMTTYPE=image/jpeg:https://veterinary.co.za/wp-content/uploads/2025/05/purina-nutritional-management-of-epilepsy-scaled.jpg
END:VEVENT
END:VCALENDAR