BEGIN:VCALENDAR
VERSION:2.0
PRODID:-//Veterinary.co.za - ECPv6.2.3.2//NONSGML v1.0//EN
CALSCALE:GREGORIAN
METHOD:PUBLISH
X-WR-CALNAME:Veterinary.co.za
X-ORIGINAL-URL:https://veterinary.co.za
X-WR-CALDESC:Events for Veterinary.co.za
REFRESH-INTERVAL;VALUE=DURATION:PT1H
X-Robots-Tag:noindex
X-PUBLISHED-TTL:PT1H
BEGIN:VTIMEZONE
TZID:Europe/Helsinki
BEGIN:DAYLIGHT
TZOFFSETFROM:+0200
TZOFFSETTO:+0300
TZNAME:EEST
DTSTART:20250330T010000
END:DAYLIGHT
BEGIN:STANDARD
TZOFFSETFROM:+0300
TZOFFSETTO:+0200
TZNAME:EET
DTSTART:20251026T010000
END:STANDARD
END:VTIMEZONE
BEGIN:VEVENT
DTSTART;TZID=Europe/Helsinki:20250611T200000
DTEND;TZID=Europe/Helsinki:20250611T213000
DTSTAMP:20260421T131246
CREATED:20250516T212243Z
LAST-MODIFIED:20250618T205042Z
UID:10000195-1749672000-1749677400@veterinary.co.za
SUMMARY:IDEXX | Big Questions about Small Things:  Everything Vets Want to Know about Clinical Microbiology [WATCH RECORDING]
DESCRIPTION:Subject: Big Questions about Small Things: Everything Vets Want to Know about Clinical Microbiology\nSpeakers: Dr Stephen Cole\nOrganizer: Idexx\nLINK: WATCH RECORDING \nThe microbiology lab can be a bit of an enigma – you send in a swab and get back a report. In this session\, we will cover what actually happens to that swab\, how you can improve your sample collection and submission\, and help to figure out why some frustrating results from the lab can happen. We will also cover antimicrobial susceptibility testing and when it can help (and when it doesn’t!). \nDr. Stephen Cole\, MS\, VMD\, is an Assistant Professor of Microbiology and Director of the Clinical Infectious Disease Laboratory at PennVet. He obtained his MS in microbiology from the College of William and Mary in 2011 and his VMD from the University of Pennsylvania School of Veterinary Medicine in 2015. He became boarded in bacteriology and immunology in 2018 and virology in 2020 by the American College of Veterinary Microbiologists. He is the recipient of the ASM Peggy Cotter Early Career Award\, numerous teaching awards and was named a One Health Scholar by the AAVMC. Dr. Cole’s research focuses on how to understand and mitigate the spread of antibiotic-resistant bacteria between companion animals and people.
URL:https://veterinary.co.za/event-main/big-questions-about-small-things-everything-vets-want-to-know-about-clinical-microbiology/
LOCATION:Webinar\, *Online\, South Africa
CATEGORIES:*Webinar,Watch Recordings
ATTACH;FMTTYPE=image/jpeg:https://veterinary.co.za/wp-content/uploads/2025/05/idexx-big-questions-about-small-things.jpg
END:VEVENT
END:VCALENDAR