BEGIN:VCALENDAR
VERSION:2.0
PRODID:-//Veterinary.co.za - ECPv6.2.3.2//NONSGML v1.0//EN
CALSCALE:GREGORIAN
METHOD:PUBLISH
X-WR-CALNAME:Veterinary.co.za
X-ORIGINAL-URL:https://veterinary.co.za
X-WR-CALDESC:Events for Veterinary.co.za
REFRESH-INTERVAL;VALUE=DURATION:PT1H
X-Robots-Tag:noindex
X-PUBLISHED-TTL:PT1H
BEGIN:VTIMEZONE
TZID:Europe/Helsinki
BEGIN:DAYLIGHT
TZOFFSETFROM:+0200
TZOFFSETTO:+0300
TZNAME:EEST
DTSTART:20250330T010000
END:DAYLIGHT
BEGIN:STANDARD
TZOFFSETFROM:+0300
TZOFFSETTO:+0200
TZNAME:EET
DTSTART:20251026T010000
END:STANDARD
END:VTIMEZONE
BEGIN:VEVENT
DTSTART;TZID=Europe/Helsinki:20250608T080000
DTEND;TZID=Europe/Helsinki:20250608T150000
DTSTAMP:20260421T131128
CREATED:20250528T191952Z
LAST-MODIFIED:20250528T193047Z
UID:10000214-1749369600-1749394800@veterinary.co.za
SUMMARY:Veterinary Ultrasound Course - Basic Echocardiography
DESCRIPTION:Subject: Veterinary Ultrasound Course – Basic Echocardiography\nSpeakers: Dr Christelle le Roux\nOrganizer: Impilo Medical Systems\nLINK: REGISTER HERE \nCourse Intro\nOne Day Basic Veterinary Echocardiography Ultrasound Course – CPD Accredited \nCost: R 3900.00\nType: IN-PERSON\nDuration: 1 Day Echo Course \nContent\nMachine and physics:\nUltrasound terminology\nMachine hardware and software for echocardiography\nImage generation – the different types of Modes\nBasic Doppler physics\nCardiac scanning methods:\nPatient positioning\nObtaining standard views\nCardiac evaluation:\nSubjective assessment\nMeasured values\nNormal versus common pathological conditions in dogs and cats\nWe will be focusing mostly on the views and measurements that are more easily and practically obtained and useful in practice\, rather than trying to master a complete scan in one go.
URL:https://veterinary.co.za/event-main/veterinary-ultrasound-course-basic-echocardiography/
LOCATION:Eden Small Animal Hospital\, George\, Western Cape\, 99 Merriman Street\, George\, Western Cape\, 6529\, South Africa
CATEGORIES:In-Person Event
ATTACH;FMTTYPE=image/jpeg:https://veterinary.co.za/wp-content/uploads/2025/05/impilo-ultrasound-course-scaled.jpg
END:VEVENT
END:VCALENDAR