BEGIN:VCALENDAR
VERSION:2.0
PRODID:-//Veterinary.co.za - ECPv6.2.3.2//NONSGML v1.0//EN
CALSCALE:GREGORIAN
METHOD:PUBLISH
X-ORIGINAL-URL:https://veterinary.co.za
X-WR-CALDESC:Events for Veterinary.co.za
REFRESH-INTERVAL;VALUE=DURATION:PT1H
X-Robots-Tag:noindex
X-PUBLISHED-TTL:PT1H
BEGIN:VTIMEZONE
TZID:Europe/Helsinki
BEGIN:DAYLIGHT
TZOFFSETFROM:+0200
TZOFFSETTO:+0300
TZNAME:EEST
DTSTART:20250330T010000
END:DAYLIGHT
BEGIN:STANDARD
TZOFFSETFROM:+0300
TZOFFSETTO:+0200
TZNAME:EET
DTSTART:20251026T010000
END:STANDARD
END:VTIMEZONE
BEGIN:VEVENT
DTSTART;TZID=Europe/Helsinki:20250519T080000
DTEND;TZID=Europe/Helsinki:20250521T170000
DTSTAMP:20260421T150309
CREATED:20250511T223043Z
LAST-MODIFIED:20250513T201459Z
UID:10000185-1747641600-1747846800@veterinary.co.za
SUMMARY:RUVASA Congress 2025 - Leaders in Livestock Health and Production
DESCRIPTION:Subject: RUVASA Congress 2025 – Leaders in Livestock Health and Production\nSpeakers: Multiple\nOrganizer: RUVASA\nLINK: REGISTER HERE \nThe 2025 RUVASA congress will be held over three days\, Monday\, Tuesday and Wednesday (19-21 May 2025) at the Radisson Hotel\, Or Tambo\, Johannesburg \nThe theme of the congress will be as follows: Leaders in Livestock Health and Production \nFrom Vision to Value: Vets driving Herd and Flock Health\, Biosecurity and Sustainable Profit \nVeterinarians leading the charge in improving herd and flock health and biosecurity at the farm level: \nDesign the Service – Develop tailored health and biosecurity solutions for farms\, addressing specific needs and challenges.\nDeliver the Service – Implement these solutions through hands-on support\, monitoring\, and expert guidance.\nEarn for the Service – Establish clear value for the service provided and secure fair compensation for professional expertise.
URL:https://veterinary.co.za/event-main/ruvasa-congress-2025-leaders-in-livestock-health-and-production/
LOCATION:Raddison Hotel & Convention Centre\, Johannesburg\, Gauteng\, 3rd Ave\, Bredell AH Kempton Park\, Bredel\, Johannesburg\, Gauteng\, 1619\, South Africa
CATEGORIES:Combined Event
ATTACH;FMTTYPE=image/jpeg:https://veterinary.co.za/wp-content/uploads/2025/05/ruvasa-2025-scaled.jpg
END:VEVENT
BEGIN:VEVENT
DTSTART;TZID=Europe/Helsinki:20250521T200000
DTEND;TZID=Europe/Helsinki:20250521T213000
DTSTAMP:20260421T150309
CREATED:20250513T210247Z
LAST-MODIFIED:20250610T204930Z
UID:10000189-1747857600-1747863000@veterinary.co.za
SUMMARY:IDEXX | DKA in the Feline: Keeping Calm and Carrying On [WATCH RECORDING]
DESCRIPTION:Subject: DKA in the Feline: Keeping Calm and Carrying On\nSpeakers: Dr Stephanie Sorrell\nOrganizer: Idexx\nLINK: WATCH RECORDING\nThe recording is now available to view. Please note that you may have to create an account to login (if you are not an ISFM member or have not logged in before). This is free and gives you access to other free resources – you do not have to be a member or take out membership to view this webinar. \nThis talk will focus on the pathophysiology of feline DKA and a practical approach to diagnosis and management. These cases can be complex to manage and we will use a real-life case example to demonstrate a structured approach to management. \nSpeaker: Stephanie Sorrell\nBVetMed(Hons)\, MANZCVS\, DipECVIM-CA\, MRCVS·IDEXX Laboratories \nStephanie graduated from the RVC and undertook her residency in Internal Medicine at Edinburgh University. She is a European Internal Medicine Specialist and RCVS Feline Specialist. Prior to joining IDEXX she has worked in a variety of private and university-based referral practices. Stephanie has a passion for teaching and has lectured extensively at conferences and CPD events as well as publishing original research papers in journals and textbooks both on clinical and non-clinical CPD topics.
URL:https://veterinary.co.za/event-main/dka-in-the-feline-keeping-calm-and-carrying-on/
LOCATION:Webinar\, *Online\, South Africa
CATEGORIES:*Webinar,Watch Recordings
ATTACH;FMTTYPE=image/jpeg:https://veterinary.co.za/wp-content/uploads/2025/05/idexx-dka-keep-calm-scaled.jpg
END:VEVENT
END:VCALENDAR