BEGIN:VCALENDAR
VERSION:2.0
PRODID:-//Veterinary.co.za - ECPv6.2.3.2//NONSGML v1.0//EN
CALSCALE:GREGORIAN
METHOD:PUBLISH
X-WR-CALNAME:Veterinary.co.za
X-ORIGINAL-URL:https://veterinary.co.za
X-WR-CALDESC:Events for Veterinary.co.za
REFRESH-INTERVAL;VALUE=DURATION:PT1H
X-Robots-Tag:noindex
X-PUBLISHED-TTL:PT1H
BEGIN:VTIMEZONE
TZID:Europe/Helsinki
BEGIN:DAYLIGHT
TZOFFSETFROM:+0200
TZOFFSETTO:+0300
TZNAME:EEST
DTSTART:20250330T010000
END:DAYLIGHT
BEGIN:STANDARD
TZOFFSETFROM:+0300
TZOFFSETTO:+0200
TZNAME:EET
DTSTART:20251026T010000
END:STANDARD
END:VTIMEZONE
BEGIN:VEVENT
DTSTART;TZID=Europe/Helsinki:20250515T190000
DTEND;TZID=Europe/Helsinki:20250516T200000
DTSTAMP:20260421T145632
CREATED:20250511T220340Z
LAST-MODIFIED:20250610T205049Z
UID:10000183-1747335600-1747425600@veterinary.co.za
SUMMARY:PURINA | Don’t Forget the Diet: Incorporating Diet Into Daily Dermatology Case Management [WATCH RECORDING]
DESCRIPTION:Subject: Don’t Forget the Diet: Incorporating Diet Into Daily Dermatology Case Management\nSpeakers: Multiple\nOrganizer: Purina\nLINK: WATCH RECORDING \nCreating Collaborative Care Through Nutrition Conversations: Webinar Series 1 of 4 \nThis webinar will explore the vital role of nutrition in managing dermatology cases commonly seen in clinical practice. Our expert speakers will discuss the importance of a comprehensive diet history\, even when adverse food reactions are not initially suspected. Attendees will receive guidance on how to evaluate a pet’s current diet and recognize opportunities to improve nutrition for optimal clinical results.\nThe speakers will also cover effective communication strategies for presenting dietary recommendations\, whether a diet change or an elimination diet trial is needed.\nLearning objectives\n▪ Obtain a comprehensive nutritional history and review the evidence-based\, open-ended\, inquiry that should be used to efficiently gather a thorough dietary history verbally.\n▪ Provide guidance for evaluating a pet’s current diet by conducting a nutritional assessment and recognize opportunities to improve nutrition to support skin and coat health.\n▪ Provide tips for effective communication regarding diet recommendations\, whether transitioning to a therapeutic diet or different commercial diet or performing an elimination diet trial.\n▪ Provide a practical approach to address misconceptions about nutrition for skin and coat health. \nThis program is approved for 1 hour of continuing education credit in jurisdictions that recognize RACE approval.
URL:https://veterinary.co.za/event-main/dont-forget-the-diet-watch-replay/
LOCATION:Webinar\, *Online\, South Africa
CATEGORIES:*Webinar,Watch Recordings
ATTACH;FMTTYPE=image/jpeg:https://veterinary.co.za/wp-content/uploads/2025/05/purina-creating-collaborative-care-series-scaled.jpg
END:VEVENT
END:VCALENDAR