BEGIN:VCALENDAR
VERSION:2.0
PRODID:-//Veterinary.co.za - ECPv6.2.3.2//NONSGML v1.0//EN
CALSCALE:GREGORIAN
METHOD:PUBLISH
X-WR-CALNAME:Veterinary.co.za
X-ORIGINAL-URL:https://veterinary.co.za
X-WR-CALDESC:Events for Veterinary.co.za
REFRESH-INTERVAL;VALUE=DURATION:PT1H
X-Robots-Tag:noindex
X-PUBLISHED-TTL:PT1H
BEGIN:VTIMEZONE
TZID:Europe/Helsinki
BEGIN:DAYLIGHT
TZOFFSETFROM:+0200
TZOFFSETTO:+0300
TZNAME:EEST
DTSTART:20250330T010000
END:DAYLIGHT
BEGIN:STANDARD
TZOFFSETFROM:+0300
TZOFFSETTO:+0200
TZNAME:EET
DTSTART:20251026T010000
END:STANDARD
END:VTIMEZONE
BEGIN:VEVENT
DTSTART;TZID=Europe/Helsinki:20250512T200000
DTEND;TZID=Europe/Helsinki:20250512T213000
DTSTAMP:20260421T145647
CREATED:20250506T233633Z
LAST-MODIFIED:20250610T205227Z
UID:10000182-1747080000-1747085400@veterinary.co.za
SUMMARY:SAEVA | Webinar #2: Colic From Yard To Referral [WATCH RECORDING]
DESCRIPTION:Subject: SAEVA Webinar #2: Colic From Yard To Referral\nSpeakers: Dr Rissa Parker\nOrganizer: SAEVA\nLINK: WATCH RECORDING \nWe are pleased to invite you to our upcoming webinar –  a service to members of the SAEVA. (R200 for non-members)
URL:https://veterinary.co.za/event-main/saeva-webinar-2-colic-from-yard-to-referral/
LOCATION:Webinar\, *Online\, South Africa
CATEGORIES:*Webinar,Watch Recordings
ATTACH;FMTTYPE=image/jpeg:https://veterinary.co.za/wp-content/uploads/2025/05/saeva-webinar-2.jpg
END:VEVENT
END:VCALENDAR