BEGIN:VCALENDAR
VERSION:2.0
PRODID:-//Veterinary.co.za - ECPv6.2.3.2//NONSGML v1.0//EN
CALSCALE:GREGORIAN
METHOD:PUBLISH
X-WR-CALNAME:Veterinary.co.za
X-ORIGINAL-URL:https://veterinary.co.za
X-WR-CALDESC:Events for Veterinary.co.za
REFRESH-INTERVAL;VALUE=DURATION:PT1H
X-Robots-Tag:noindex
X-PUBLISHED-TTL:PT1H
BEGIN:VTIMEZONE
TZID:Europe/Helsinki
BEGIN:DAYLIGHT
TZOFFSETFROM:+0200
TZOFFSETTO:+0300
TZNAME:EEST
DTSTART:20250330T010000
END:DAYLIGHT
BEGIN:STANDARD
TZOFFSETFROM:+0300
TZOFFSETTO:+0200
TZNAME:EET
DTSTART:20251026T010000
END:STANDARD
END:VTIMEZONE
BEGIN:VEVENT
DTSTART;TZID=Europe/Helsinki:20250508T083000
DTEND;TZID=Europe/Helsinki:20250508T170000
DTSTAMP:20260421T145541
CREATED:20250318T203952Z
LAST-MODIFIED:20250318T203952Z
UID:10000163-1746693000-1746723600@veterinary.co.za
SUMMARY:NVCG Ophthalmology Road Show 2025
DESCRIPTION:Subject: NVCG Ophthalmology Road Show 2025\nSpeakers: Dr Anthony Goodhead\nOrganizer: NVCG\nLINK: REGISTER HERE \nPresented by Dr Anthony Goodhead \nAntony was schooled in the Durban area and completed a BSc in Agriculture degree at the University of Natal. Following this\, he went to Onderstepoort Veterinary Faculty\, Pretoria University\, where he completed his BVSc degree as well as the Master’s degree in ophthalmology. \nAntony has had the opportunity to live and work in the UK and to regularly attend international veterinary ophthalmology congresses in Europe and the USA. Antony holds his Certificate in Veterinary Ophthalmology from the Royal College of Veterinary Surgeons.He is married and has two daughters\, one is a qualified vet and the other wants to study medicine. He enjoys good quality family time and outdoor activities such as mountain biking\, camping\, walking\, and birding. \nAntony also volunteers his time for the World Small Animal Veterinary Association by assisting with professional continuing education in ophthalmology lecturing in Africa for veterinarians in general practice.
URL:https://veterinary.co.za/event-main/nvcg-ophthalmology-road-show-2025-2/
LOCATION:Protea Hotel Technopark Stellenbosch\, Western Cape\, Techno Ave\, Techno Park\, Stellenbosch\, Western Cape\, 7600\, South Africa
CATEGORIES:In-Person Event
ATTACH;FMTTYPE=image/jpeg:https://veterinary.co.za/wp-content/uploads/2025/03/NVCG-Ophthalmology-Roadshow-2025-scaled.jpg
END:VEVENT
BEGIN:VEVENT
DTSTART;TZID=Europe/Helsinki:20250508T193000
DTEND;TZID=Europe/Helsinki:20250508T210000
DTSTAMP:20260421T145541
CREATED:20250505T081039Z
LAST-MODIFIED:20250505T081603Z
UID:10000178-1746732600-1746738000@veterinary.co.za
SUMMARY:Fostering Client Growth and Loyalty: Strategies for Effective Marketing
DESCRIPTION:Subject: Fostering Client Growth and Loyalty: Strategies for Effective Marketing\nSpeakers: Eric Garcia\nOrganizer: Hill’s Pet Nutrition\nEvent Link: REGISTER HERE \nDuring this session we will take a deep dive into the art of cultivating a thriving client base through strategic marketing techniques. Explore innovative approaches to attract new customers while nurturing existing relationships for enduring loyalty. \nThrough engaging case studies and actionable insights\, you’ll learn how to craft compelling messaging\, personalize interactions\, and create memorable experiences that resonate with your audience. Uncover the secrets of building a brand that customers can’t help but advocate for. This session equips you with the tools to elevate your marketing strategies\, fostering client growth and loyalty that drive sustained success in today’s competitive landscape. \nAbout our speaker \nEric D. Garcia \nWhen it comes to helping veterinary practices streamline their technology and attract and retain clients\, Eric Garcia has a proven track record of educating the industry and producing results. \nEric is an internationally recognized IT and Digital Strategist working exclusively within the field of veterinary medicine. Garcia’s work has been recognized throughout the industry. \nEric was voted VMX 2020 Speaker of the Year by conference attendees. He speaks regularly at conferences all throughout the world. \nNB: THIS IS ONLY AVAILABLE TO VIEW LIVE\, there will be NO RECORDING available.
URL:https://veterinary.co.za/event-main/fostering-client-growth-and-loyalty-strategies-for-effective-marketing-2/
LOCATION:Webinar\, *Online\, South Africa
CATEGORIES:*Webinar
ATTACH;FMTTYPE=image/jpeg:https://veterinary.co.za/wp-content/uploads/2025/05/hills-vet-enrichment-webinar-series-3-scaled.jpg
END:VEVENT
END:VCALENDAR