BEGIN:VCALENDAR
VERSION:2.0
PRODID:-//Veterinary.co.za - ECPv6.2.3.2//NONSGML v1.0//EN
CALSCALE:GREGORIAN
METHOD:PUBLISH
X-WR-CALNAME:Veterinary.co.za
X-ORIGINAL-URL:https://veterinary.co.za
X-WR-CALDESC:Events for Veterinary.co.za
REFRESH-INTERVAL;VALUE=DURATION:PT1H
X-Robots-Tag:noindex
X-PUBLISHED-TTL:PT1H
BEGIN:VTIMEZONE
TZID:Europe/Helsinki
BEGIN:DAYLIGHT
TZOFFSETFROM:+0200
TZOFFSETTO:+0300
TZNAME:EEST
DTSTART:20250330T010000
END:DAYLIGHT
BEGIN:STANDARD
TZOFFSETFROM:+0300
TZOFFSETTO:+0200
TZNAME:EET
DTSTART:20251026T010000
END:STANDARD
END:VTIMEZONE
BEGIN:VEVENT
DTSTART;TZID=Europe/Helsinki:20250430T150000
DTEND;TZID=Europe/Helsinki:20250501T200000
DTSTAMP:20260421T145726
CREATED:20250428T213145Z
LAST-MODIFIED:20250430T182703Z
UID:10000175-1746025200-1746129600@veterinary.co.za
SUMMARY:Technologically Empowered Veterinary Care
DESCRIPTION:Subject: Technologically Empowered Veterinary Care\nSpeakers: Multiple\nOrganizer: Purina\nLINK: REGISTER HERE \nExplore the Future of Pet Nutrition and Health Care Empowered by Advanced Technologies With Us!\nThe Purina Institute Global Summit 2025 will be livestreamed around the world on 30 A‍pr‍il–1 M‍a‍y\, and you are welcome to join in the learning. \nThis premier event offers 1.5 days of educational sessions focused on how advanced technologies are transforming nutrition science\, pet care and well-being\, and medicine.
URL:https://veterinary.co.za/event-main/technologically-empowered-veterinary-care/
LOCATION:Webinar\, *Online\, South Africa
CATEGORIES:*Webinar
ATTACH;FMTTYPE=image/jpeg:https://veterinary.co.za/wp-content/uploads/2025/04/purina-tech-empowered-scaled.jpg
END:VEVENT
END:VCALENDAR