BEGIN:VCALENDAR
VERSION:2.0
PRODID:-//Veterinary.co.za - ECPv6.2.3.2//NONSGML v1.0//EN
CALSCALE:GREGORIAN
METHOD:PUBLISH
X-WR-CALNAME:Veterinary.co.za
X-ORIGINAL-URL:https://veterinary.co.za
X-WR-CALDESC:Events for Veterinary.co.za
REFRESH-INTERVAL;VALUE=DURATION:PT1H
X-Robots-Tag:noindex
X-PUBLISHED-TTL:PT1H
BEGIN:VTIMEZONE
TZID:Europe/Helsinki
BEGIN:DAYLIGHT
TZOFFSETFROM:+0200
TZOFFSETTO:+0300
TZNAME:EEST
DTSTART:20250330T010000
END:DAYLIGHT
BEGIN:STANDARD
TZOFFSETFROM:+0300
TZOFFSETTO:+0200
TZNAME:EET
DTSTART:20251026T010000
END:STANDARD
END:VTIMEZONE
BEGIN:VEVENT
DTSTART;TZID=Europe/Helsinki:20250411T080000
DTEND;TZID=Europe/Helsinki:20250412T170000
DTSTAMP:20260421T164415
CREATED:20250122T203448Z
LAST-MODIFIED:20250122T203448Z
UID:10000144-1744358400-1744477200@veterinary.co.za
SUMMARY:SAVA Oranje Vaal Branch Congress 2025
DESCRIPTION:Subject: SAVA Oranje Vaal Branch Congress 2025\nSpeakers: Multiple\nOrganizer: Savetcon\nEvent Link: REGISTER HERE \n 
URL:https://veterinary.co.za/event-main/sava-oranje-vaal-branch-congress-2025/
LOCATION:Khaya iBuhbesi\, Parys\, Free State\, Khaya iBhubesi\, Parys\, Free State\, 9585\, South Africa
CATEGORIES:In-Person Event
ATTACH;FMTTYPE=image/jpeg:https://veterinary.co.za/wp-content/uploads/2025/01/sava-oranje-vaal-2025-scaled.jpg
END:VEVENT
END:VCALENDAR