BEGIN:VCALENDAR
VERSION:2.0
PRODID:-//Veterinary.co.za - ECPv6.2.3.2//NONSGML v1.0//EN
CALSCALE:GREGORIAN
METHOD:PUBLISH
X-ORIGINAL-URL:https://veterinary.co.za
X-WR-CALDESC:Events for Veterinary.co.za
REFRESH-INTERVAL;VALUE=DURATION:PT1H
X-Robots-Tag:noindex
X-PUBLISHED-TTL:PT1H
BEGIN:VTIMEZONE
TZID:Europe/Helsinki
BEGIN:DAYLIGHT
TZOFFSETFROM:+0200
TZOFFSETTO:+0300
TZNAME:EEST
DTSTART:20250330T010000
END:DAYLIGHT
BEGIN:STANDARD
TZOFFSETFROM:+0300
TZOFFSETTO:+0200
TZNAME:EET
DTSTART:20251026T010000
END:STANDARD
END:VTIMEZONE
BEGIN:VEVENT
DTSTART;TZID=Europe/Helsinki:20250407T200000
DTEND;TZID=Europe/Helsinki:20250407T213000
DTSTAMP:20260421T164631
CREATED:20250325T205238Z
LAST-MODIFIED:20250610T205726Z
UID:10000167-1744056000-1744061400@veterinary.co.za
SUMMARY:SAEVA | Webinar #1: Equine ulcerative keratitis [WATCH RECORDING]
DESCRIPTION:Subject: SAEVA Webinar #1: Equine ulcerative keratitis\nSpeakers: Dr Izak Venter\nOrganizer: SAEVA\nLINK: WATCH RECORDING \nWe are pleased to invite you to our upcoming webinar – a service to members of the SAEVA. (R200 for non-members) \nWhat will be discussed:\nEtiology\, predisposing factors\, clinical signs and treatment of both bacterial and mycotic will be discussed. \nSpeaker:\nIzak Venter – DVOS\nVeterinary Ophthalmologist qualified in 1994. 30 years in referral ophthalmology practices currently involved with online consulting service in ophthalmology as well as lecturing including pre and post graduate training at the veterinary faculty.
URL:https://veterinary.co.za/event-main/equine-ulcerative-keratitis/
LOCATION:Webinar\, *Online\, South Africa
CATEGORIES:*Webinar,Watch Recordings
ATTACH;FMTTYPE=image/jpeg:https://veterinary.co.za/wp-content/uploads/2025/03/SAEVA-webinar-1.jpg
END:VEVENT
END:VCALENDAR