BEGIN:VCALENDAR
VERSION:2.0
PRODID:-//Veterinary.co.za - ECPv6.2.3.2//NONSGML v1.0//EN
CALSCALE:GREGORIAN
METHOD:PUBLISH
X-ORIGINAL-URL:https://veterinary.co.za
X-WR-CALDESC:Events for Veterinary.co.za
REFRESH-INTERVAL;VALUE=DURATION:PT1H
X-Robots-Tag:noindex
X-PUBLISHED-TTL:PT1H
BEGIN:VTIMEZONE
TZID:Europe/Helsinki
BEGIN:DAYLIGHT
TZOFFSETFROM:+0200
TZOFFSETTO:+0300
TZNAME:EEST
DTSTART:20250330T010000
END:DAYLIGHT
BEGIN:STANDARD
TZOFFSETFROM:+0300
TZOFFSETTO:+0200
TZNAME:EET
DTSTART:20251026T010000
END:STANDARD
END:VTIMEZONE
BEGIN:VEVENT
DTSTART;TZID=Europe/Helsinki:20250327T083000
DTEND;TZID=Europe/Helsinki:20250327T170000
DTSTAMP:20260421T184531
CREATED:20250318T203451Z
LAST-MODIFIED:20250318T203750Z
UID:10000162-1743064200-1743094800@veterinary.co.za
SUMMARY:NVCG Ophthalmology Road Show 2025
DESCRIPTION:Subject: NVCG Ophthalmology Road Show 2025\nSpeakers: Dr Anthony Goodhead\nOrganizer: NVCG\nLINK: REGISTER HERE \nPresented by Dr Anthony Goodhead \nAntony was schooled in the Durban area and completed a BSc in Agriculture degree at the University of Natal. Following this\, he went to Onderstepoort Veterinary Faculty\, Pretoria University\, where he completed his BVSc degree as well as the Master’s degree in ophthalmology. \nAntony has had the opportunity to live and work in the UK and to regularly attend international veterinary ophthalmology congresses in Europe and the USA. Antony holds his Certificate in Veterinary Ophthalmology from the Royal College of Veterinary Surgeons.He is married and has two daughters\, one is a qualified vet and the other wants to study medicine. He enjoys good quality family time and outdoor activities such as mountain biking\, camping\, walking\, and birding. \nAntony also volunteers his time for the World Small Animal Veterinary Association by assisting with professional continuing education in ophthalmology lecturing in Africa for veterinarians in general practice.
URL:https://veterinary.co.za/event-main/nvcg-ophthalmology-road-show-2025/
LOCATION:Aha Gateway Hotel\, Umhlanga\, KwaZulu-Natal\, Cnr Centenary Blvd &\, Twilight Dr\, Umhlanga Ridge\, Umhlanga\, KwaZulu-Natal\, 4319\, South Africa
CATEGORIES:In-Person Event
ATTACH;FMTTYPE=image/jpeg:https://veterinary.co.za/wp-content/uploads/2025/03/NVCG-Ophthalmology-Roadshow-2025-scaled.jpg
END:VEVENT
END:VCALENDAR