BEGIN:VCALENDAR
VERSION:2.0
PRODID:-//Veterinary.co.za - ECPv6.2.3.2//NONSGML v1.0//EN
CALSCALE:GREGORIAN
METHOD:PUBLISH
X-ORIGINAL-URL:https://veterinary.co.za
X-WR-CALDESC:Events for Veterinary.co.za
REFRESH-INTERVAL;VALUE=DURATION:PT1H
X-Robots-Tag:noindex
X-PUBLISHED-TTL:PT1H
BEGIN:VTIMEZONE
TZID:Europe/Helsinki
BEGIN:DAYLIGHT
TZOFFSETFROM:+0200
TZOFFSETTO:+0300
TZNAME:EEST
DTSTART:20250330T010000
END:DAYLIGHT
BEGIN:STANDARD
TZOFFSETFROM:+0300
TZOFFSETTO:+0200
TZNAME:EET
DTSTART:20251026T010000
END:STANDARD
END:VTIMEZONE
BEGIN:VEVENT
DTSTART;TZID=Europe/Helsinki:20250313T200000
DTEND;TZID=Europe/Helsinki:20250313T210000
DTSTAMP:20260421T183806
CREATED:20250305T212225Z
LAST-MODIFIED:20250610T210050Z
UID:10000159-1741896000-1741899600@veterinary.co.za
SUMMARY:RWD ACADEMY | Equipping the Veterinary Dental Operatory [WATCH RECORDING]
DESCRIPTION:Subject: Equipping the Veterinary Dental Operatory\nSpeakers: Dr Cedric Tutt\nOrganizer: RWD Academy\nLINK: WATCH RECODRING \nDr Cedric Tutt \nEuropean Veterinary Specialist in Dentistry \nMember of the European Veterinary Dental Committee International certified veterinary dental specialist and oral and maxillomandibular surgeon Specially appointed dental veterinary consultant for the Chengdu Panda Base in China Lecturer’s books\, Small Animal Dentistry-Technical Manual\, BSAVA Manual-Dog and Cat Dentistry
URL:https://veterinary.co.za/event-main/equipping-the-veterinary-dental-operatory/
LOCATION:Webinar\, *Online\, South Africa
CATEGORIES:*Webinar,Watch Recordings
ATTACH;FMTTYPE=image/jpeg:https://veterinary.co.za/wp-content/uploads/2025/03/RWD-dentistry-1-scaled.jpg
END:VEVENT
END:VCALENDAR