BEGIN:VCALENDAR
VERSION:2.0
PRODID:-//Veterinary.co.za - ECPv6.2.3.2//NONSGML v1.0//EN
CALSCALE:GREGORIAN
METHOD:PUBLISH
X-WR-CALNAME:Veterinary.co.za
X-ORIGINAL-URL:https://veterinary.co.za
X-WR-CALDESC:Events for Veterinary.co.za
REFRESH-INTERVAL;VALUE=DURATION:PT1H
X-Robots-Tag:noindex
X-PUBLISHED-TTL:PT1H
BEGIN:VTIMEZONE
TZID:Europe/Helsinki
BEGIN:DAYLIGHT
TZOFFSETFROM:+0200
TZOFFSETTO:+0300
TZNAME:EEST
DTSTART:20250330T010000
END:DAYLIGHT
BEGIN:STANDARD
TZOFFSETFROM:+0300
TZOFFSETTO:+0200
TZNAME:EET
DTSTART:20251026T010000
END:STANDARD
END:VTIMEZONE
BEGIN:VEVENT
DTSTART;TZID=Europe/Helsinki:20250306T193000
DTEND;TZID=Europe/Helsinki:20250306T210000
DTSTAMP:20260421T183226
CREATED:20250223T195239Z
LAST-MODIFIED:20250304T115923Z
UID:10000149-1741289400-1741294800@veterinary.co.za
SUMMARY:Apoquel Chewable Launch
DESCRIPTION:Subject: Apoquel Chewable Launch\nSpeakers: Dr Andrew Hillier\nOrganizer: Zoetis\nLINK: REGISTER HERE \nSpeaker: Prof Andrew Hillier – BVSc\, MANZCVS (Canine Medicine)\nDiplomate American College of Veterinary Dermatology\nDirector of Dermatology Medical Strategy\,\nDirector of Field Specialists \nProf Andrew – Andy – Hillier graduated from Onderstepoort on 1992. He practiced small animal primary care for eight years in Cape Town and Perth. \nAndy completed a residency in veterinary dermatology at the University of Florida in 1994 when he was board-certified by the American College of Veterinary Dermatology. He established his own dermatology referral practice in Australia before returning to the US in 1996. He was on the faculty at The Ohio State University for 17 years\, attained a Full Professor and Head of the Dermatology and Otology Service. He joined Zoetis as a Senior Veterinary Specialist in 2013. \nProf Hillier moved to Zoetis HQ in New Jersey as the Medical Lead for Dermatology. He now serves as the Director of Dermatology Medical Strategy and Field Specialist at Zoetis PETCARE. He has published over 40 peer-reviewed articles\, edited and written books and book chapters\, and lectured extensively both in the US and internationally. His primary areas of interest are atopicand allergic dermatitis\, and staphylococcal pyoderma and antimicrobial therapy.
URL:https://veterinary.co.za/event-main/apoquel-chewable-launch/
LOCATION:Webinar\, *Online\, South Africa
CATEGORIES:*Webinar
ATTACH;FMTTYPE=image/jpeg:https://veterinary.co.za/wp-content/uploads/2025/02/apoquel-chewable2-scaled.jpg
END:VEVENT
END:VCALENDAR