BEGIN:VCALENDAR
VERSION:2.0
PRODID:-//Veterinary.co.za - ECPv6.2.3.2//NONSGML v1.0//EN
CALSCALE:GREGORIAN
METHOD:PUBLISH
X-WR-CALNAME:Veterinary.co.za
X-ORIGINAL-URL:https://veterinary.co.za
X-WR-CALDESC:Events for Veterinary.co.za
REFRESH-INTERVAL;VALUE=DURATION:PT1H
X-Robots-Tag:noindex
X-PUBLISHED-TTL:PT1H
BEGIN:VTIMEZONE
TZID:Europe/Helsinki
BEGIN:DAYLIGHT
TZOFFSETFROM:+0200
TZOFFSETTO:+0300
TZNAME:EEST
DTSTART:20250330T010000
END:DAYLIGHT
BEGIN:STANDARD
TZOFFSETFROM:+0300
TZOFFSETTO:+0200
TZNAME:EET
DTSTART:20251026T010000
END:STANDARD
END:VTIMEZONE
BEGIN:VEVENT
DTSTART;TZID=Europe/Helsinki:20250305T190000
DTEND;TZID=Europe/Helsinki:20250305T203000
DTSTAMP:20260421T183416
CREATED:20250302T204645Z
LAST-MODIFIED:20250302T204658Z
UID:10000151-1741201200-1741206600@veterinary.co.za
SUMMARY:SAVA JHB Branch: Periocular Neoplasia in Cats and Dogs
DESCRIPTION:Subject: Periocular Neoplasia in Cats and Dogs\nSpeakers: Dr Izak Venter\nOrganizer: SAVA JHB Branch\nEvent Link: REGISTER HERE \nIN PERSON EVENT | 19:00 CAT | Johannesburg Country Club\, Woodmead \nSpeaker: Dr Izak Venter | Topic: Periocular neoplasia in cats and dogs with emphasis on squamous cell carcinoma and hemangioma. | Proudly sponsored by Vetscripts
URL:https://veterinary.co.za/event-main/sava-jhb-branch-periocular-neoplasia-in-cats-and-dogs/
LOCATION:Johannesburg Country Club\, Woodmead\, Gauteng\, Cnr Woodland Drive & Lincoln Street\, Woodmead\, Sandton\, 2128\, Johannesburg\, Gauteng\, South Africa
CATEGORIES:In-Person Event
ATTACH;FMTTYPE=image/jpeg:https://veterinary.co.za/wp-content/uploads/2025/03/SAVA-JHB-Branch-2025-scaled.jpg
END:VEVENT
BEGIN:VEVENT
DTSTART;TZID=Europe/Helsinki:20250305T193000
DTEND;TZID=Europe/Helsinki:20250305T210000
DTSTAMP:20260421T183416
CREATED:20250213T205522Z
LAST-MODIFIED:20250610T210132Z
UID:10000148-1741203000-1741208400@veterinary.co.za
SUMMARY:IDEXX | For The Love Of Kidneys [WATCH RECORDING]
DESCRIPTION:Subject: For The Love Of Kidneys\nSpeakers: Dr Yolandi Rautenbach\nOrganizer: Idexx\nLINK: WATCH RECORDING \nIDEXX hybrid CPD evening\, join in-person (Kyalami\, Gauteng) or online.\nFor online registration use this link: https://www.workcast.com/register?cpak=6648827830763486\nFor in-person registration use this link: https://forms.office.com/r/HkPUfQ7RUm \nRenal disease is a common disorder that causes considerable morbidity and mortality in elderly dos and cats. Early detection of chronic renal disease\, before the onset of renal azotaemia and chronic renal disease\, is important to facilitate appropriate intervention that stabilizes renal function or slows its progressive decline. Learn more about the optimal diagnostic use of current renal biomarkers and our exciting new kidney test profile launching in the reference lab in March
URL:https://veterinary.co.za/event-main/for-the-love-of-kidneys/
LOCATION:Webinar\, *Online\, South Africa
CATEGORIES:Combined Event,Watch Recordings
ATTACH;FMTTYPE=image/jpeg:https://veterinary.co.za/wp-content/uploads/2025/02/idexx-for-the-love-of-kidneys.jpg
END:VEVENT
END:VCALENDAR