BEGIN:VCALENDAR
VERSION:2.0
PRODID:-//Veterinary.co.za - ECPv6.2.3.2//NONSGML v1.0//EN
CALSCALE:GREGORIAN
METHOD:PUBLISH
X-ORIGINAL-URL:https://veterinary.co.za
X-WR-CALDESC:Events for Veterinary.co.za
REFRESH-INTERVAL;VALUE=DURATION:PT1H
X-Robots-Tag:noindex
X-PUBLISHED-TTL:PT1H
BEGIN:VTIMEZONE
TZID:Europe/Helsinki
BEGIN:DAYLIGHT
TZOFFSETFROM:+0200
TZOFFSETTO:+0300
TZNAME:EEST
DTSTART:20250330T010000
END:DAYLIGHT
BEGIN:STANDARD
TZOFFSETFROM:+0300
TZOFFSETTO:+0200
TZNAME:EET
DTSTART:20251026T010000
END:STANDARD
END:VTIMEZONE
BEGIN:VEVENT
DTSTART;TZID=Europe/Helsinki:20250226T190000
DTEND;TZID=Europe/Helsinki:20250226T210000
DTSTAMP:20260421T184711
CREATED:20250223T194230Z
LAST-MODIFIED:20250223T194255Z
UID:10000150-1740596400-1740603600@veterinary.co.za
SUMMARY:Nasal and Brain Tumors: Diagnosis and Treatment
DESCRIPTION:Subject: Nasal and Brain Tumors: Diagnosis and Treatment\nSpeakers: Dr Ryan Friedlein\nOrganizer: Valley Farm Animal Hospital\nEvent Link: REGISTER HERE \nWe are starting off our CPD lectures this year with one from Dr Ryan Friedlein BSc BVSc(Hons) MMedVet(medicine) \nRyan received his BVSc veterinary degree from the University of Pretoria\, Onderstepoort in 2009 and then spent the next 2 years in small animal private practice before enrolling in the small animal medicine residency through Onderstepoort. He obtained his honours degree in 2013 and MMedVet (medicine) in 2017. He has worked as a medicine physician in small animal specialist referral hospitals in both Johannesburg and Pretoria. His veterinary passions are oncology\, diagnostic imaging\, and solving the puzzle of the medicine case. \nNasal and brain tumours: Diagnosis and treatment \nRyan aims to give a comprehensive overview of the important aspects relating to diagnosis and treatment of nasal and brain neoplasia. \nNasal and brain tumours in dogs and cats can cause a range of clinical signs that impact their quality of life. Therefore\, the primary goals of treatment are to alleviate clinical signs\, manage pain\, and extend survival. Nasal tumours often present with nasal discharge\, obstruction to airflow\, epistaxis\, or facial asymmetry\, while brain tumours may lead to neurological signs such as seizures\, behavioural changes and ataxia. \nEarly diagnosis is crucial\, and advanced imaging techniques like MRI and CT are necessary for assessing tumour localization\, size\, and involvement of the surrounding tissues. These diagnostic tools guide treatment planning\, the main pillars including radiation therapy\, surgery and chemotherapy. \nSupper will be served from 7pm\, lecture starts at 7.30pm Please RSVP with your name\, SAVC number and let us know if you have any special dietary requirements. \nWe look forward to seeing you there. \nreferral@valleyfarmvet.co.za
URL:https://veterinary.co.za/event-main/nasal-and-brain-tumors-diagnosis-and-treatment/
LOCATION:Valley Farm Animal Hospital\, Pretoria\, Gauteng\, 829 Old Farm Rd\, Faerie Glen\, Pretoria\, Gauteng\, 0043\, South Africa
CATEGORIES:In-Person Event
ATTACH;FMTTYPE=image/jpeg:https://veterinary.co.za/wp-content/uploads/2025/02/valleyfarm-brain-tumors.jpg
END:VEVENT
END:VCALENDAR