BEGIN:VCALENDAR
VERSION:2.0
PRODID:-//Veterinary.co.za - ECPv6.2.3.2//NONSGML v1.0//EN
CALSCALE:GREGORIAN
METHOD:PUBLISH
X-WR-CALNAME:Veterinary.co.za
X-ORIGINAL-URL:https://veterinary.co.za
X-WR-CALDESC:Events for Veterinary.co.za
REFRESH-INTERVAL;VALUE=DURATION:PT1H
X-Robots-Tag:noindex
X-PUBLISHED-TTL:PT1H
BEGIN:VTIMEZONE
TZID:Europe/Helsinki
BEGIN:DAYLIGHT
TZOFFSETFROM:+0200
TZOFFSETTO:+0300
TZNAME:EEST
DTSTART:20250330T010000
END:DAYLIGHT
BEGIN:STANDARD
TZOFFSETFROM:+0300
TZOFFSETTO:+0200
TZNAME:EET
DTSTART:20251026T010000
END:STANDARD
END:VTIMEZONE
BEGIN:VEVENT
DTSTART;TZID=Europe/Helsinki:20250220T080000
DTEND;TZID=Europe/Helsinki:20250223T170000
DTSTAMP:20260421T202016
CREATED:20241015T070941Z
LAST-MODIFIED:20241015T070941Z
UID:10000088-1740038400-1740330000@veterinary.co.za
SUMMARY:South African Equine Veterinary Association Congress 2025
DESCRIPTION:Subject: South African Equine Veterinary Association Congress 2025\nSpeakers: Multiple\nOrganizer: Vetlink\nEvent Link: REGISTER HERE \nThe Southern African Equine Veterinary Association\, will take place from 20-23 February 2025\nat the Skukuza\, Kruger National Park\, Mpumalanga\, South Africa \n 
URL:https://veterinary.co.za/event-main/south-african-equine-veterinary-association-congress-2025-2/
LOCATION:Skukuza\, Kruger National Park\, Mpumalanga\, Skukuza\, Kruger National Park\, Skukuza\, Mpumalanga\, 1350\, South Africa
CATEGORIES:In-Person Event
ATTACH;FMTTYPE=image/jpeg:https://veterinary.co.za/wp-content/uploads/2024/07/SAEVA-Congress-2025.jpg
END:VEVENT
BEGIN:VEVENT
DTSTART;TZID=Europe/Helsinki:20250220T200000
DTEND;TZID=Europe/Helsinki:20250220T213000
DTSTAMP:20260421T202016
CREATED:20250101T210416Z
LAST-MODIFIED:20250610T210451Z
UID:10000139-1740081600-1740087000@veterinary.co.za
SUMMARY:PURINA | First-Line Approach to GI Disease in Dogs and Cats [WATCH RECORDING]
DESCRIPTION:Subject: First-Line Approach to GI Disease in Dogs and Cats\nSpeakers: Dr Jan S. Suchodolski and Panelists\nOrganizer: Purina\nEvent Link: WATCH RECORDING \nLearn how a paradigm shift in our understanding of gastrointestinal (GI) disease shapes case management.\nVeterinary medicine is undergoing a paradigm shift in its understanding of GI disease in dogs and cats\, and a multimodal approach is vital to success. How does this shift affect clinical decision-making in acute and chronic GI disorders? \nThe Microbiome Forum Round Table 2025 brings together a panel of gastroenterologists and nutritionists to discuss the ongoing evolution of GI case management\, including the foundational role of nutrition and addressing dysbiosis. \nWhat you will learn\nHow challenges with existing classifications of chronic enteropathy are reshaping our approach to case management.\nWhy dysbiosis and chronic enteropathy are an interrelated clinical syndrome.\nWhy antibiotics should be the last option for managing GI disorders.\nThe concept of using diet and nutrition to help maintain gut health and as a critical first-line approach to acute and chronic GI disorders.\nA rational approach to diet selection for the management of canine and feline GI diseases\, as well as logical next steps if dietary management is unsuccessful or does not fully resolve clinical signs.
URL:https://veterinary.co.za/event-main/first-line-approach-to-gi-disease-in-dogs-and-cats/
LOCATION:Webinar\, *Online\, South Africa
CATEGORIES:*Webinar,Watch Recordings
ATTACH;FMTTYPE=image/jpeg:https://veterinary.co.za/wp-content/uploads/2025/01/purina-first-line-approach-scaled.jpg
END:VEVENT
END:VCALENDAR