BEGIN:VCALENDAR
VERSION:2.0
PRODID:-//Veterinary.co.za - ECPv6.2.3.2//NONSGML v1.0//EN
CALSCALE:GREGORIAN
METHOD:PUBLISH
X-WR-CALNAME:Veterinary.co.za
X-ORIGINAL-URL:https://veterinary.co.za
X-WR-CALDESC:Events for Veterinary.co.za
REFRESH-INTERVAL;VALUE=DURATION:PT1H
X-Robots-Tag:noindex
X-PUBLISHED-TTL:PT1H
BEGIN:VTIMEZONE
TZID:Europe/Helsinki
BEGIN:DAYLIGHT
TZOFFSETFROM:+0200
TZOFFSETTO:+0300
TZNAME:EEST
DTSTART:20250330T010000
END:DAYLIGHT
BEGIN:STANDARD
TZOFFSETFROM:+0300
TZOFFSETTO:+0200
TZNAME:EET
DTSTART:20251026T010000
END:STANDARD
END:VTIMEZONE
BEGIN:VEVENT
DTSTART;TZID=Europe/Helsinki:20250219T190000
DTEND;TZID=Europe/Helsinki:20250219T203000
DTSTAMP:20260421T202017
CREATED:20250210T210026Z
LAST-MODIFIED:20250210T210026Z
UID:10000145-1739991600-1739997000@veterinary.co.za
SUMMARY:Flushing Away Opportunities: The Unforeseen Costs of Urinalysis Neglect
DESCRIPTION:Subject: Flushing Away Opportunities: The Unforeseen Costs of Urinalysis Neglect\nSpeakers: Dr Eric Morissette\nOrganizer: Zoetis\nLINK: REGISTER HERE \nAre you ready to uncover the hidden impacts of urinalysis neglect in companion animals? Join us for an enlightening and dynamic webinar that will transform your approach to veterinary care!\nWhy Attend?\n• Discover the Hidden Costs: Learn about the critical consequences of overlooking urinalysis in your practice.\n• Expert Insights: Gain valuable knowledge from leading experts in veterinary medicine.\n• Interactive Q&A: Engage with our speakers and get your pressing questions answered.\n• Practical Takeaways: Equip yourself with actionable strategies to enhance your diagnostic toolkit.\nDon’t miss this opportunity to elevate your practice and ensure the best care for your furry patients!
URL:https://veterinary.co.za/event-main/flushing-away-opportunities-the-unforeseen-costs-of-urinalysis-neglect/
LOCATION:Webinar\, *Online\, South Africa
CATEGORIES:*Webinar
ATTACH;FMTTYPE=image/jpeg:https://veterinary.co.za/wp-content/uploads/2025/02/zoetis-flushing-away-opportunities-scaled.jpg
END:VEVENT
END:VCALENDAR