BEGIN:VCALENDAR
VERSION:2.0
PRODID:-//Veterinary.co.za - ECPv6.2.3.2//NONSGML v1.0//EN
CALSCALE:GREGORIAN
METHOD:PUBLISH
X-WR-CALNAME:Veterinary.co.za
X-ORIGINAL-URL:https://veterinary.co.za
X-WR-CALDESC:Events for Veterinary.co.za
REFRESH-INTERVAL;VALUE=DURATION:PT1H
X-Robots-Tag:noindex
X-PUBLISHED-TTL:PT1H
BEGIN:VTIMEZONE
TZID:Europe/Helsinki
BEGIN:DAYLIGHT
TZOFFSETFROM:+0200
TZOFFSETTO:+0300
TZNAME:EEST
DTSTART:20250330T010000
END:DAYLIGHT
BEGIN:STANDARD
TZOFFSETFROM:+0300
TZOFFSETTO:+0200
TZNAME:EET
DTSTART:20251026T010000
END:STANDARD
END:VTIMEZONE
BEGIN:VEVENT
DTSTART;TZID=Europe/Helsinki:20250216T100000
DTEND;TZID=Europe/Helsinki:20250216T170000
DTSTAMP:20260421T201950
CREATED:20250101T204647Z
LAST-MODIFIED:20250101T205118Z
UID:10000138-1739700000-1739725200@veterinary.co.za
SUMMARY:Mastering Ultrasound Course with Prof Johan Schoemann
DESCRIPTION:Subject: Basic ultrasound and echocardiography CPD courses\nSpeakers: Prof Johan Schoemann\nOrganizer: Lomaen Medical\nLink: REGISTER HERE \n\n\n\n\nCourse 1 \nPoint-of-care ultrasound\n3 hour practical course\n(Max. 20 delegates) \nSunday\, 16 February 2025\, 10:00 – 13:00\nCost: R 3500 \nLunch will be served between the two courses from 13:00 to 14:00 \nAn abdominal and thoracic focused assessment by sonography for trauma or lung ultrasound is the first scan that should be performed in any dog presenting with a respiratory or abdominal emergency. Point-of-care ultrasound topics and principles will be covered during an hour-long demonstration on a live dog. This will be followed by a two-hour session during which the learning will be re-enforced with all participants practicing the demonstrated techniques and watching colleagues practice the techniques. \nCourse 2\n \nBasic echocardiography\n3 hour practical course\n(Max. 10 delegates) \nSunday\, 16 February 2025\, 14:00 – 17:00\nCost: R 4500 \nAfter this course the practitioner will be able to assess basic heart function and doppler flows with the aid of an ultrasound machine. Views and parameters will be explained and demonstrated by the instructor during an hour-long session on a live dog. This will be followed by a two-hour opportunity to practice your newly acquired echocardiographic skills on live dogs.
URL:https://veterinary.co.za/event-main/mastering-ultrasound-course-with-prof-johan-schoemann-7/
LOCATION:Bergzicht Animal Hospital\, Shop 65\, Eden on the Bay\, C/O Otto du Plessis and Sir David Baird\, Big Bay\, Cape Town\, Western Cape\, 7441\, South Africa
CATEGORIES:In-Person Event
ATTACH;FMTTYPE=image/jpeg:https://veterinary.co.za/wp-content/uploads/2025/01/mastering-ultrasound-cape-town.jpg
END:VEVENT
END:VCALENDAR