BEGIN:VCALENDAR
VERSION:2.0
PRODID:-//Veterinary.co.za - ECPv6.2.3.2//NONSGML v1.0//EN
CALSCALE:GREGORIAN
METHOD:PUBLISH
X-WR-CALNAME:Veterinary.co.za
X-ORIGINAL-URL:https://veterinary.co.za
X-WR-CALDESC:Events for Veterinary.co.za
REFRESH-INTERVAL;VALUE=DURATION:PT1H
X-Robots-Tag:noindex
X-PUBLISHED-TTL:PT1H
BEGIN:VTIMEZONE
TZID:Europe/Helsinki
BEGIN:DAYLIGHT
TZOFFSETFROM:+0200
TZOFFSETTO:+0300
TZNAME:EEST
DTSTART:20250330T010000
END:DAYLIGHT
BEGIN:STANDARD
TZOFFSETFROM:+0300
TZOFFSETTO:+0200
TZNAME:EET
DTSTART:20251026T010000
END:STANDARD
END:VTIMEZONE
BEGIN:VEVENT
DTSTART;TZID=Europe/Helsinki:20250213T193000
DTEND;TZID=Europe/Helsinki:20250213T210000
DTSTAMP:20260421T202018
CREATED:20250210T211821Z
LAST-MODIFIED:20250610T210543Z
UID:10000146-1739475000-1739480400@veterinary.co.za
SUMMARY:HILL'S | A Shortcut To Stay Calm In A Busy World [WATCH RECORDING]
DESCRIPTION:Subject: A shortcut to stay calm in a busy world\nSpeakers: Dr Bert Mohr\nOrganizer: Hills\nLINK: WATCH RECORDING \nBert will share shortcuts to calm – practical mindfulness techniques that focus awareness\, refresh your mindset and reset physiology in the space of a minute – even for the most challenging scenarios and emotions faced by veterinary teams and animal care personnel on a daily basis. \nAbout our speaker \nDr Bert Mohr \nBert is a leading keynote speaker on wellbeing in the veterinary and animal care industries. In sharing his own path from burnout to breakthrough\, he inspires audiences by presenting practical mindfulness techniques that build resilience and promote the mental-emotional wellbeing of animal care personnel. He is a successful entrepreneur\, internationally recognised veterinary specialist with an Oxford PhD\, an authority on animal ethics\, founder and CEO of Scientific Veterinary Consulting\, and experienced at leadership. He loves being with his wife\, children\, friends and dogs\, time in nature\, ultra-trail running\, surfing and wilderness camping.
URL:https://veterinary.co.za/event-main/a-shortcut-to-stay-calm-in-a-busy-world/
LOCATION:Webinar\, *Online\, South Africa
CATEGORIES:*Webinar,Watch Recordings
ATTACH;FMTTYPE=image/jpeg:https://veterinary.co.za/wp-content/uploads/2025/02/hills-shortcut-to-calm3.jpg
END:VEVENT
END:VCALENDAR