BEGIN:VCALENDAR
VERSION:2.0
PRODID:-//Veterinary.co.za - ECPv6.2.3.2//NONSGML v1.0//EN
CALSCALE:GREGORIAN
METHOD:PUBLISH
X-ORIGINAL-URL:https://veterinary.co.za
X-WR-CALDESC:Events for Veterinary.co.za
REFRESH-INTERVAL;VALUE=DURATION:PT1H
X-Robots-Tag:noindex
X-PUBLISHED-TTL:PT1H
BEGIN:VTIMEZONE
TZID:Europe/Helsinki
BEGIN:DAYLIGHT
TZOFFSETFROM:+0200
TZOFFSETTO:+0300
TZNAME:EEST
DTSTART:20250330T010000
END:DAYLIGHT
BEGIN:STANDARD
TZOFFSETFROM:+0300
TZOFFSETTO:+0200
TZNAME:EET
DTSTART:20251026T010000
END:STANDARD
END:VTIMEZONE
BEGIN:VEVENT
DTSTART;TZID=Europe/Helsinki:20250201T130000
DTEND;TZID=Europe/Helsinki:20250201T200000
DTSTAMP:20260421T202421
CREATED:20241118T190932Z
LAST-MODIFIED:20241118T191015Z
UID:10000133-1738414800-1738440000@veterinary.co.za
SUMMARY:Mastering Ultrasound Course with Prof Johan Schoemann
DESCRIPTION:Subject: Basic ultrasound and echocardiography CPD courses\nSpeakers: Prof Johan Schoemann\nOrganizer: Lomaen Medical\nLink: REGISTER HERE \n\n\n\n\nCourse 1\nBasic abdominal ultrasound\n3 hour practical course\n(Max. 20 delegates) \nSaturday\, 01 February 2025\, 13:00 – 16:00\nCost: R 3500 \nA light meal will be served between the two courses from 16:00 to 17:00 \nMastering the basic abdominal ultrasound examination is an essential skill for the small animal practitioner. Essential topics and principles will be covered during an hour-long demonstration on a live dog. This will be followed by a two hour session during which the lessons will be reinforced\, with all participants practicing the demonstrated techniques and watching colleagues practice the techniques on live dogs. \nCourse 2\nBasic echocardiography\n3 hour practical course\n(Max. 10 delegates) \nSaturday\, 01 February 2025\, 17:00 – 20:00\nCost: R 4500 \nAfter this course the practitioner will be able to assess basic heart function and doppler flows with the aid of an ultrasound machine. Views and parameters will be explained and demonstrated by the instructor during an hour long session on a live dog. This will be followed by a two hour opportunity to practice your newly acquired echocardiographic skills on live dogs.
URL:https://veterinary.co.za/event-main/mastering-ultrasound-course-with-prof-johan-schoemann-5/
LOCATION:Hillcrest Veterinary Hospital\, Hillcrest\, KwaZulu-Natal\, 32 Old Main Rd\, Hillcrest\, KwaZulu-Natal\, 3610\, South Africa
CATEGORIES:In-Person Event
ATTACH;FMTTYPE=image/jpeg:https://veterinary.co.za/wp-content/uploads/2024/11/mastering-ultrasound-durban.jpg
END:VEVENT
END:VCALENDAR