BEGIN:VCALENDAR
VERSION:2.0
PRODID:-//Veterinary.co.za - ECPv6.2.3.2//NONSGML v1.0//EN
CALSCALE:GREGORIAN
METHOD:PUBLISH
X-WR-CALNAME:Veterinary.co.za
X-ORIGINAL-URL:https://veterinary.co.za
X-WR-CALDESC:Events for Veterinary.co.za
REFRESH-INTERVAL;VALUE=DURATION:PT1H
X-Robots-Tag:noindex
X-PUBLISHED-TTL:PT1H
BEGIN:VTIMEZONE
TZID:Europe/Helsinki
BEGIN:DAYLIGHT
TZOFFSETFROM:+0200
TZOFFSETTO:+0300
TZNAME:EEST
DTSTART:20250330T010000
END:DAYLIGHT
BEGIN:STANDARD
TZOFFSETFROM:+0300
TZOFFSETTO:+0200
TZNAME:EET
DTSTART:20251026T010000
END:STANDARD
END:VTIMEZONE
BEGIN:VEVENT
DTSTART;TZID=Europe/Helsinki:20250115T190000
DTEND;TZID=Europe/Helsinki:20250115T203000
DTSTAMP:20260421T215555
CREATED:20250107T204019Z
LAST-MODIFIED:20250107T204513Z
UID:10000140-1736967600-1736973000@veterinary.co.za
SUMMARY:Chronic Diarrhoea - Dr Remo Lobetti
DESCRIPTION:Subject: Chronic Diarrhoea\nSpeakers: Dr Remo Lobetti\nOrganizer: Bryanston Veterinary Hospital\nRSVP: robin@bryanstonvet.co.za \n📢 Upcoming Talk: Chronic Diarrhoea\nJoin us for an insightful evening with Dr. Remo Lobetti\, a leading expert in veterinary medicine\, as he delves into the causes\, management\, and solutions for chronic diarrhoea. 🩺🐾 \n🗓 Date: 15th January\n⏰ Time: 19:00 PM\n📍 Location: In-person at Bryanston Veterinary Hospital & Specialist Centre \nThis talk is designed for registered veterinarians and veterinary nurses. Spots are limited\, so don’t wait! Secure your spot today by emailing robin@bryanstonvet.co.za. 🐕🐈
URL:https://veterinary.co.za/event-main/chronic-diarrhoea-dr-remo-lobetti/
LOCATION:Bryanston Veterinary Hospital\, Johannesburg\, Gauteng\, 6 Ballyclare Drive\, cnr William Nicol Drive Bryanston\, Johannesburg\, Gauteng\, 2191\, South Africa
CATEGORIES:In-Person Event
ATTACH;FMTTYPE=image/jpeg:https://veterinary.co.za/wp-content/uploads/2025/01/Bryanston-vet-chronic-diarrhoea-scaled.jpg
END:VEVENT
END:VCALENDAR