BEGIN:VCALENDAR
VERSION:2.0
PRODID:-//Veterinary.co.za - ECPv6.2.3.2//NONSGML v1.0//EN
CALSCALE:GREGORIAN
METHOD:PUBLISH
X-ORIGINAL-URL:https://veterinary.co.za
X-WR-CALDESC:Events for Veterinary.co.za
REFRESH-INTERVAL;VALUE=DURATION:PT1H
X-Robots-Tag:noindex
X-PUBLISHED-TTL:PT1H
BEGIN:VTIMEZONE
TZID:Europe/Helsinki
BEGIN:DAYLIGHT
TZOFFSETFROM:+0200
TZOFFSETTO:+0300
TZNAME:EEST
DTSTART:20250330T010000
END:DAYLIGHT
BEGIN:STANDARD
TZOFFSETFROM:+0300
TZOFFSETTO:+0200
TZNAME:EET
DTSTART:20251026T010000
END:STANDARD
END:VTIMEZONE
BEGIN:VEVENT
DTSTART;TZID=Europe/Helsinki:20250114T200000
DTEND;TZID=Europe/Helsinki:20250114T213000
DTSTAMP:20260421T220023
CREATED:20250114T111049Z
LAST-MODIFIED:20250114T112953Z
UID:10000141-1736884800-1736890200@veterinary.co.za
SUMMARY:Surgical Approach to Tortoise Coeliotomies
DESCRIPTION:Subject: Surgical Approach to Tortoise Coeliotomies\nSpeakers: Dr William Lewis\nOrganizer: Johannesburg Wildlife Vet\nLink: Join Zoom Meeting – [Meeting ID: 551 922 9614 | Passcode: 8A37N9] \nDonate to Johannesburg Wildlife NPC (Dr Karin Lourens)\nHelp support Johannesburg Wildlife NPC by donating or sharing with your friends. \nBanking Details for Johannesburg Wildlife NPC:\nFNB Cheque Account: 626 584 00264\nBranch Code: 255 355\nSwift Code: FIRNZAJJ \nA donation of R150 would go a long way in supporting Johannesburg Wildlife NPC\, but any amount donated is still greatly appreciated.
URL:https://veterinary.co.za/event-main/surgical-approach-to-tortoise-coeliotomies/
LOCATION:Webinar\, *Online\, South Africa
CATEGORIES:*Webinar
ATTACH;FMTTYPE=image/jpeg:https://veterinary.co.za/wp-content/uploads/2025/01/Tortoise-Coeliotomies-1-scaled.jpg
END:VEVENT
END:VCALENDAR