BEGIN:VCALENDAR
VERSION:2.0
PRODID:-//Veterinary.co.za - ECPv6.2.3.2//NONSGML v1.0//EN
CALSCALE:GREGORIAN
METHOD:PUBLISH
X-WR-CALNAME:Veterinary.co.za
X-ORIGINAL-URL:https://veterinary.co.za
X-WR-CALDESC:Events for Veterinary.co.za
REFRESH-INTERVAL;VALUE=DURATION:PT1H
X-Robots-Tag:noindex
X-PUBLISHED-TTL:PT1H
BEGIN:VTIMEZONE
TZID:Europe/Helsinki
BEGIN:DAYLIGHT
TZOFFSETFROM:+0200
TZOFFSETTO:+0300
TZNAME:EEST
DTSTART:20240331T010000
END:DAYLIGHT
BEGIN:STANDARD
TZOFFSETFROM:+0300
TZOFFSETTO:+0200
TZNAME:EET
DTSTART:20241027T010000
END:STANDARD
END:VTIMEZONE
BEGIN:VEVENT
DTSTART;TZID=Europe/Helsinki:20241211T190000
DTEND;TZID=Europe/Helsinki:20241211T203000
DTSTAMP:20260421T233153
CREATED:20241124T203400Z
LAST-MODIFIED:20241212T192504Z
UID:10000136-1733943600-1733949000@veterinary.co.za
SUMMARY:From sedation to immobilisation: Anaesthesia protocols for South American primates
DESCRIPTION:Subject: From sedation to immobilisation: Anaesthesia protocols for South American primates\nSpeakers: Dr Edmundo Parada\nOrganizer: Vetlink\nEvent Link: WATCH REPLAY \nEdmundo Parada is a licensed wildlife veterinarian from Mexico\, specialising in wildlife and zoo animals with a focus on New World primates. He graduated from Universidad de La Salle Bajío and works as a freelancer\, providing veterinary expertise for various conservation projects. \nEdmundo’s experience spans multiple primate species\, with a particular emphasis on spider monkeys. He is also an active member of the Association of Zoos and Aquariums in Mexico\, where he contributes to conservation efforts nationwide. \nRecently\, Edmundo participated in the national response to the heat crisis affecting howler monkeys\, working to protect these vulnerable populations. His commitment to advancing animal health and promoting wildlife conservation is evident through his work. \n 
URL:https://veterinary.co.za/event-main/from-sedation-to-immobilisation-anaesthesia-protocols-for-south-american-primates/
LOCATION:Webinar\, *Online\, South Africa
CATEGORIES:*Webinar
ATTACH;FMTTYPE=image/jpeg:https://veterinary.co.za/wp-content/uploads/2024/06/wildlife-pharmaceuticals-webinar-series-scaled.jpg
END:VEVENT
END:VCALENDAR