BEGIN:VCALENDAR
VERSION:2.0
PRODID:-//Veterinary.co.za - ECPv6.2.3.2//NONSGML v1.0//EN
CALSCALE:GREGORIAN
METHOD:PUBLISH
X-WR-CALNAME:Veterinary.co.za
X-ORIGINAL-URL:https://veterinary.co.za
X-WR-CALDESC:Events for Veterinary.co.za
REFRESH-INTERVAL;VALUE=DURATION:PT1H
X-Robots-Tag:noindex
X-PUBLISHED-TTL:PT1H
BEGIN:VTIMEZONE
TZID:Europe/Helsinki
BEGIN:DAYLIGHT
TZOFFSETFROM:+0200
TZOFFSETTO:+0300
TZNAME:EEST
DTSTART:20240331T010000
END:DAYLIGHT
BEGIN:STANDARD
TZOFFSETFROM:+0300
TZOFFSETTO:+0200
TZNAME:EET
DTSTART:20241027T010000
END:STANDARD
END:VTIMEZONE
BEGIN:VEVENT
DTSTART;TZID=Europe/Helsinki:20241204T193000
DTEND;TZID=Europe/Helsinki:20241204T210000
DTSTAMP:20260421T233129
CREATED:20241117T194032Z
LAST-MODIFIED:20241117T194032Z
UID:10000131-1733340600-1733346000@veterinary.co.za
SUMMARY:Beyond the basics: A guide to ancillary diagnostic testing
DESCRIPTION:Subject: Beyond the basics: A guide to ancillary diagnostic testing\nSpeakers: Dr Collin Martin\nOrganizer: Idexx\nEvent Link: REGISTER HERE \nOutcomes:\nIntroduction to the South African and wider international IDEXX pathology team including field experts.\nUpdate on newly available diagnostic tests.\nReview on selected ancillary diagnostic testing. \nDr Collin A Martin BVSc MMedVet (Path) MRCVS\nCollin qualified as a veterinarian in 2008 and started working as a general practitioner in the Kyalami area of Johannesburg. He joined Idexx in 2014 as an anatomical pathology resident based at the Idexx anatomical pathology laboratory within Onderstepoort. He successfully completed his specialist MMedVet (Pathology) degree in 2020 and subsequently relocated to Cape Town with his wife and young daughter. They then welcomed a second daughter in 2021. His research project described the pathology of babesia related acute lung injury and acute respiratory distress syndrome in canines. Professional interests include neoplastic diseases as well as diseases of avian and exotic species.
URL:https://veterinary.co.za/event-main/beyond-the-basics-a-guide-to-ancillary-diagnostic-testing/
LOCATION:Webinar\, *Online\, South Africa
CATEGORIES:In-Person Event
ATTACH;FMTTYPE=image/jpeg:https://veterinary.co.za/wp-content/uploads/2024/11/Idexx-ancillary-diagnostic-testing.jpg
END:VEVENT
END:VCALENDAR