BEGIN:VCALENDAR
VERSION:2.0
PRODID:-//Veterinary.co.za - ECPv6.2.3.2//NONSGML v1.0//EN
CALSCALE:GREGORIAN
METHOD:PUBLISH
X-ORIGINAL-URL:https://veterinary.co.za
X-WR-CALDESC:Events for Veterinary.co.za
REFRESH-INTERVAL;VALUE=DURATION:PT1H
X-Robots-Tag:noindex
X-PUBLISHED-TTL:PT1H
BEGIN:VTIMEZONE
TZID:Europe/Helsinki
BEGIN:DAYLIGHT
TZOFFSETFROM:+0200
TZOFFSETTO:+0300
TZNAME:EEST
DTSTART:20240331T010000
END:DAYLIGHT
BEGIN:STANDARD
TZOFFSETFROM:+0300
TZOFFSETTO:+0200
TZNAME:EET
DTSTART:20241027T010000
END:STANDARD
END:VTIMEZONE
BEGIN:VEVENT
DTSTART;TZID=Europe/Helsinki:20241128T190000
DTEND;TZID=Europe/Helsinki:20241128T200000
DTSTAMP:20260421T233319
CREATED:20241120T215452Z
LAST-MODIFIED:20241127T035443Z
UID:10000134-1732820400-1732824000@veterinary.co.za
SUMMARY:SAVC: How do I...use AI in my facility?
DESCRIPTION:Subject: How do I… use AI in my facility?\nSpeakers: Dr Adele Williams (AI & Clinical Data consultant)\nOrganizer: SAVC\nEvent Link: REGISTER HERE \nThis chapter deals with how to use Artificial Intelligence (AI) in your facility. \nAll practice principals and staff welcome to attend! Open to everyone.\nDon’t miss out! \nOur guest speaker is Dr Adele Williams from the UK\nAI & Clinical Data consultant | Clinical AI Creator | Clinical Data Perfectionist | Clinical Researcher | Academic | Start-up Exec | Educator | European & RCVS Equine Internal Medicine Specialist | Molecular Biology PhD
URL:https://veterinary.co.za/event-main/savc-how-do-i-use-ai-in-my-facility/
LOCATION:Webinar\, *Online\, South Africa
CATEGORIES:*Webinar
ATTACH;FMTTYPE=image/jpeg:https://veterinary.co.za/wp-content/uploads/2024/11/SAVC-how-do-I-use-AI.jpg
END:VEVENT
END:VCALENDAR