BEGIN:VCALENDAR
VERSION:2.0
PRODID:-//Veterinary.co.za - ECPv6.2.3.2//NONSGML v1.0//EN
CALSCALE:GREGORIAN
METHOD:PUBLISH
X-WR-CALNAME:Veterinary.co.za
X-ORIGINAL-URL:https://veterinary.co.za
X-WR-CALDESC:Events for Veterinary.co.za
REFRESH-INTERVAL;VALUE=DURATION:PT1H
X-Robots-Tag:noindex
X-PUBLISHED-TTL:PT1H
BEGIN:VTIMEZONE
TZID:Europe/Helsinki
BEGIN:DAYLIGHT
TZOFFSETFROM:+0200
TZOFFSETTO:+0300
TZNAME:EEST
DTSTART:20240331T010000
END:DAYLIGHT
BEGIN:STANDARD
TZOFFSETFROM:+0300
TZOFFSETTO:+0200
TZNAME:EET
DTSTART:20241027T010000
END:STANDARD
END:VTIMEZONE
BEGIN:VEVENT
DTSTART;TZID=Europe/Helsinki:20241111T140000
DTEND;TZID=Europe/Helsinki:20241111T170000
DTSTAMP:20260422T010247
CREATED:20241006T203334Z
LAST-MODIFIED:20241006T204254Z
UID:10000117-1731333600-1731344400@veterinary.co.za
SUMMARY:Fear Free Workshop with Sr Esther Klok
DESCRIPTION:Subject: Fear Free Workshop\nSpeakers: Sr Esther Klok\nOrganizer: VNASA\nEvent Link: REGISTER HERE \nPlease join Onderstepoort & VNASA on 11 November 2024 for a Fear Free workshop with Sr Esther Klok at Onderstepoort.\n(Awaiting CPD accreditation)\nBooking essential: cpd@vnasa.net before 1 November\n 
URL:https://veterinary.co.za/event-main/fear-free-workshop-with-sr-esther-klok/
LOCATION:Onderstepoort\, Pretoria\, Gauteng\, Old Soutpan Road (M35)\, Onderstepoort\, Pretoria\, Gauteng\, 0110\, South Africa
CATEGORIES:In-Person Event
ATTACH;FMTTYPE=image/jpeg:https://veterinary.co.za/wp-content/uploads/2024/10/fear-free-workshop-2.jpg
END:VEVENT
END:VCALENDAR